BEGIN:VCALENDAR
VERSION:2.0
PRODID:-//Manchester Area Historical Society - ECPv6.15.20//NONSGML v1.0//EN
CALSCALE:GREGORIAN
METHOD:PUBLISH
X-ORIGINAL-URL:https://mahsmi.org
X-WR-CALDESC:Events for Manchester Area Historical Society
REFRESH-INTERVAL;VALUE=DURATION:PT1H
X-Robots-Tag:noindex
X-PUBLISHED-TTL:PT1H
BEGIN:VTIMEZONE
TZID:America/Detroit
BEGIN:DAYLIGHT
TZOFFSETFROM:-0500
TZOFFSETTO:-0400
TZNAME:EDT
DTSTART:20260308T070000
END:DAYLIGHT
BEGIN:STANDARD
TZOFFSETFROM:-0400
TZOFFSETTO:-0500
TZNAME:EST
DTSTART:20261101T060000
END:STANDARD
BEGIN:DAYLIGHT
TZOFFSETFROM:-0500
TZOFFSETTO:-0400
TZNAME:EDT
DTSTART:20270314T070000
END:DAYLIGHT
BEGIN:STANDARD
TZOFFSETFROM:-0400
TZOFFSETTO:-0500
TZNAME:EST
DTSTART:20271107T060000
END:STANDARD
BEGIN:DAYLIGHT
TZOFFSETFROM:-0500
TZOFFSETTO:-0400
TZNAME:EDT
DTSTART:20280312T070000
END:DAYLIGHT
BEGIN:STANDARD
TZOFFSETFROM:-0400
TZOFFSETTO:-0500
TZNAME:EST
DTSTART:20281105T060000
END:STANDARD
END:VTIMEZONE
BEGIN:VEVENT
DTSTART;TZID=America/Detroit:20270328T130000
DTEND;TZID=America/Detroit:20270328T160000
DTSTAMP:20260420T001018
CREATED:20230411T131402Z
LAST-MODIFIED:20230411T131402Z
UID:3763-1806238800-1806249600@mahsmi.org
SUMMARY:KJ Museum and Gift Shop Open
DESCRIPTION:
URL:https://mahsmi.org/event/kj-museum-and-gift-shop-open/2027-03-28/
LOCATION:Kingsley-Jenter House\, 302 E. Main Street\, Manchester\, MI\, 48158\, United States
END:VEVENT
BEGIN:VEVENT
DTSTART;TZID=America/Detroit:20270404T130000
DTEND;TZID=America/Detroit:20270404T160000
DTSTAMP:20260420T001018
CREATED:20230411T131402Z
LAST-MODIFIED:20230411T131402Z
UID:3765-1806843600-1806854400@mahsmi.org
SUMMARY:KJ Museum and Gift Shop Open
DESCRIPTION:
URL:https://mahsmi.org/event/kj-museum-and-gift-shop-open/2027-04-04/
LOCATION:Kingsley-Jenter House\, 302 E. Main Street\, Manchester\, MI\, 48158\, United States
END:VEVENT
BEGIN:VEVENT
DTSTART;TZID=America/Detroit:20270411T130000
DTEND;TZID=America/Detroit:20270411T160000
DTSTAMP:20260420T001018
CREATED:20230411T131402Z
LAST-MODIFIED:20230411T131402Z
UID:3767-1807448400-1807459200@mahsmi.org
SUMMARY:KJ Museum and Gift Shop Open
DESCRIPTION:
URL:https://mahsmi.org/event/kj-museum-and-gift-shop-open/2027-04-11/
LOCATION:Kingsley-Jenter House\, 302 E. Main Street\, Manchester\, MI\, 48158\, United States
END:VEVENT
BEGIN:VEVENT
DTSTART;TZID=America/Detroit:20270418T130000
DTEND;TZID=America/Detroit:20270418T160000
DTSTAMP:20260420T001018
CREATED:20230411T131402Z
LAST-MODIFIED:20230411T131402Z
UID:3769-1808053200-1808064000@mahsmi.org
SUMMARY:KJ Museum and Gift Shop Open
DESCRIPTION:
URL:https://mahsmi.org/event/kj-museum-and-gift-shop-open/2027-04-18/
LOCATION:Kingsley-Jenter House\, 302 E. Main Street\, Manchester\, MI\, 48158\, United States
END:VEVENT
BEGIN:VEVENT
DTSTART;TZID=America/Detroit:20270425T130000
DTEND;TZID=America/Detroit:20270425T160000
DTSTAMP:20260420T001018
CREATED:20230411T131402Z
LAST-MODIFIED:20230411T131402Z
UID:3771-1808658000-1808668800@mahsmi.org
SUMMARY:KJ Museum and Gift Shop Open
DESCRIPTION:
URL:https://mahsmi.org/event/kj-museum-and-gift-shop-open/2027-04-25/
LOCATION:Kingsley-Jenter House\, 302 E. Main Street\, Manchester\, MI\, 48158\, United States
END:VEVENT
BEGIN:VEVENT
DTSTART;TZID=America/Detroit:20270502T130000
DTEND;TZID=America/Detroit:20270502T160000
DTSTAMP:20260420T001018
CREATED:20230411T131402Z
LAST-MODIFIED:20230411T131402Z
UID:3773-1809262800-1809273600@mahsmi.org
SUMMARY:KJ Museum and Gift Shop Open
DESCRIPTION:
URL:https://mahsmi.org/event/kj-museum-and-gift-shop-open/2027-05-02/
LOCATION:Kingsley-Jenter House\, 302 E. Main Street\, Manchester\, MI\, 48158\, United States
END:VEVENT
BEGIN:VEVENT
DTSTART;TZID=America/Detroit:20270509T130000
DTEND;TZID=America/Detroit:20270509T160000
DTSTAMP:20260420T001018
CREATED:20230411T131402Z
LAST-MODIFIED:20230411T131402Z
UID:3775-1809867600-1809878400@mahsmi.org
SUMMARY:KJ Museum and Gift Shop Open
DESCRIPTION:
URL:https://mahsmi.org/event/kj-museum-and-gift-shop-open/2027-05-09/
LOCATION:Kingsley-Jenter House\, 302 E. Main Street\, Manchester\, MI\, 48158\, United States
END:VEVENT
BEGIN:VEVENT
DTSTART;TZID=America/Detroit:20270516T130000
DTEND;TZID=America/Detroit:20270516T160000
DTSTAMP:20260420T001018
CREATED:20230411T131402Z
LAST-MODIFIED:20230411T131402Z
UID:3777-1810472400-1810483200@mahsmi.org
SUMMARY:KJ Museum and Gift Shop Open
DESCRIPTION:
URL:https://mahsmi.org/event/kj-museum-and-gift-shop-open/2027-05-16/
LOCATION:Kingsley-Jenter House\, 302 E. Main Street\, Manchester\, MI\, 48158\, United States
END:VEVENT
BEGIN:VEVENT
DTSTART;TZID=America/Detroit:20270523T130000
DTEND;TZID=America/Detroit:20270523T160000
DTSTAMP:20260420T001018
CREATED:20230411T131402Z
LAST-MODIFIED:20230411T131402Z
UID:3780-1811077200-1811088000@mahsmi.org
SUMMARY:KJ Museum and Gift Shop Open
DESCRIPTION:
URL:https://mahsmi.org/event/kj-museum-and-gift-shop-open/2027-05-23/
LOCATION:Kingsley-Jenter House\, 302 E. Main Street\, Manchester\, MI\, 48158\, United States
END:VEVENT
BEGIN:VEVENT
DTSTART;TZID=America/Detroit:20270530T130000
DTEND;TZID=America/Detroit:20270530T160000
DTSTAMP:20260420T001018
CREATED:20230411T131402Z
LAST-MODIFIED:20230411T131402Z
UID:3785-1811682000-1811692800@mahsmi.org
SUMMARY:KJ Museum and Gift Shop Open
DESCRIPTION:
URL:https://mahsmi.org/event/kj-museum-and-gift-shop-open/2027-05-30/
LOCATION:Kingsley-Jenter House\, 302 E. Main Street\, Manchester\, MI\, 48158\, United States
END:VEVENT
BEGIN:VEVENT
DTSTART;TZID=America/Detroit:20270606T130000
DTEND;TZID=America/Detroit:20270606T160000
DTSTAMP:20260420T001018
CREATED:20230411T131402Z
LAST-MODIFIED:20230411T131402Z
UID:3786-1812286800-1812297600@mahsmi.org
SUMMARY:KJ Museum and Gift Shop Open
DESCRIPTION:
URL:https://mahsmi.org/event/kj-museum-and-gift-shop-open/2027-06-06/
LOCATION:Kingsley-Jenter House\, 302 E. Main Street\, Manchester\, MI\, 48158\, United States
END:VEVENT
BEGIN:VEVENT
DTSTART;TZID=America/Detroit:20270613T130000
DTEND;TZID=America/Detroit:20270613T160000
DTSTAMP:20260420T001018
CREATED:20230411T131402Z
LAST-MODIFIED:20230411T131402Z
UID:3787-1812891600-1812902400@mahsmi.org
SUMMARY:KJ Museum and Gift Shop Open
DESCRIPTION:
URL:https://mahsmi.org/event/kj-museum-and-gift-shop-open/2027-06-13/
LOCATION:Kingsley-Jenter House\, 302 E. Main Street\, Manchester\, MI\, 48158\, United States
END:VEVENT
BEGIN:VEVENT
DTSTART;TZID=America/Detroit:20270620T130000
DTEND;TZID=America/Detroit:20270620T160000
DTSTAMP:20260420T001018
CREATED:20230411T131402Z
LAST-MODIFIED:20230411T131402Z
UID:3788-1813496400-1813507200@mahsmi.org
SUMMARY:KJ Museum and Gift Shop Open
DESCRIPTION:
URL:https://mahsmi.org/event/kj-museum-and-gift-shop-open/2027-06-20/
LOCATION:Kingsley-Jenter House\, 302 E. Main Street\, Manchester\, MI\, 48158\, United States
END:VEVENT
BEGIN:VEVENT
DTSTART;TZID=America/Detroit:20270627T130000
DTEND;TZID=America/Detroit:20270627T160000
DTSTAMP:20260420T001018
CREATED:20230411T131402Z
LAST-MODIFIED:20230411T131402Z
UID:3789-1814101200-1814112000@mahsmi.org
SUMMARY:KJ Museum and Gift Shop Open
DESCRIPTION:
URL:https://mahsmi.org/event/kj-museum-and-gift-shop-open/2027-06-27/
LOCATION:Kingsley-Jenter House\, 302 E. Main Street\, Manchester\, MI\, 48158\, United States
END:VEVENT
BEGIN:VEVENT
DTSTART;TZID=America/Detroit:20270704T130000
DTEND;TZID=America/Detroit:20270704T160000
DTSTAMP:20260420T001018
CREATED:20230411T131402Z
LAST-MODIFIED:20230411T131402Z
UID:3790-1814706000-1814716800@mahsmi.org
SUMMARY:KJ Museum and Gift Shop Open
DESCRIPTION:
URL:https://mahsmi.org/event/kj-museum-and-gift-shop-open/2027-07-04/
LOCATION:Kingsley-Jenter House\, 302 E. Main Street\, Manchester\, MI\, 48158\, United States
END:VEVENT
BEGIN:VEVENT
DTSTART;TZID=America/Detroit:20270711T130000
DTEND;TZID=America/Detroit:20270711T160000
DTSTAMP:20260420T001018
CREATED:20230411T131402Z
LAST-MODIFIED:20230411T131402Z
UID:3791-1815310800-1815321600@mahsmi.org
SUMMARY:KJ Museum and Gift Shop Open
DESCRIPTION:
URL:https://mahsmi.org/event/kj-museum-and-gift-shop-open/2027-07-11/
LOCATION:Kingsley-Jenter House\, 302 E. Main Street\, Manchester\, MI\, 48158\, United States
END:VEVENT
BEGIN:VEVENT
DTSTART;TZID=America/Detroit:20270718T130000
DTEND;TZID=America/Detroit:20270718T160000
DTSTAMP:20260420T001018
CREATED:20230411T131402Z
LAST-MODIFIED:20230411T131402Z
UID:3792-1815915600-1815926400@mahsmi.org
SUMMARY:KJ Museum and Gift Shop Open
DESCRIPTION:
URL:https://mahsmi.org/event/kj-museum-and-gift-shop-open/2027-07-18/
LOCATION:Kingsley-Jenter House\, 302 E. Main Street\, Manchester\, MI\, 48158\, United States
END:VEVENT
BEGIN:VEVENT
DTSTART;TZID=America/Detroit:20270725T130000
DTEND;TZID=America/Detroit:20270725T160000
DTSTAMP:20260420T001018
CREATED:20230411T131402Z
LAST-MODIFIED:20230411T131402Z
UID:3793-1816520400-1816531200@mahsmi.org
SUMMARY:KJ Museum and Gift Shop Open
DESCRIPTION:
URL:https://mahsmi.org/event/kj-museum-and-gift-shop-open/2027-07-25/
LOCATION:Kingsley-Jenter House\, 302 E. Main Street\, Manchester\, MI\, 48158\, United States
END:VEVENT
BEGIN:VEVENT
DTSTART;TZID=America/Detroit:20270801T130000
DTEND;TZID=America/Detroit:20270801T160000
DTSTAMP:20260420T001018
CREATED:20230411T131402Z
LAST-MODIFIED:20230411T131402Z
UID:3803-1817125200-1817136000@mahsmi.org
SUMMARY:KJ Museum and Gift Shop Open
DESCRIPTION:
URL:https://mahsmi.org/event/kj-museum-and-gift-shop-open/2027-08-01/
LOCATION:Kingsley-Jenter House\, 302 E. Main Street\, Manchester\, MI\, 48158\, United States
END:VEVENT
BEGIN:VEVENT
DTSTART;TZID=America/Detroit:20270808T130000
DTEND;TZID=America/Detroit:20270808T160000
DTSTAMP:20260420T001018
CREATED:20230411T131402Z
LAST-MODIFIED:20230411T131402Z
UID:3805-1817730000-1817740800@mahsmi.org
SUMMARY:KJ Museum and Gift Shop Open
DESCRIPTION:
URL:https://mahsmi.org/event/kj-museum-and-gift-shop-open/2027-08-08/
LOCATION:Kingsley-Jenter House\, 302 E. Main Street\, Manchester\, MI\, 48158\, United States
END:VEVENT
BEGIN:VEVENT
DTSTART;TZID=America/Detroit:20270815T130000
DTEND;TZID=America/Detroit:20270815T160000
DTSTAMP:20260420T001018
CREATED:20230411T131402Z
LAST-MODIFIED:20230411T131402Z
UID:3807-1818334800-1818345600@mahsmi.org
SUMMARY:KJ Museum and Gift Shop Open
DESCRIPTION:
URL:https://mahsmi.org/event/kj-museum-and-gift-shop-open/2027-08-15/
LOCATION:Kingsley-Jenter House\, 302 E. Main Street\, Manchester\, MI\, 48158\, United States
END:VEVENT
BEGIN:VEVENT
DTSTART;TZID=America/Detroit:20270822T130000
DTEND;TZID=America/Detroit:20270822T160000
DTSTAMP:20260420T001018
CREATED:20230411T131402Z
LAST-MODIFIED:20230411T131402Z
UID:3809-1818939600-1818950400@mahsmi.org
SUMMARY:KJ Museum and Gift Shop Open
DESCRIPTION:
URL:https://mahsmi.org/event/kj-museum-and-gift-shop-open/2027-08-22/
LOCATION:Kingsley-Jenter House\, 302 E. Main Street\, Manchester\, MI\, 48158\, United States
END:VEVENT
BEGIN:VEVENT
DTSTART;TZID=America/Detroit:20270829T130000
DTEND;TZID=America/Detroit:20270829T160000
DTSTAMP:20260420T001018
CREATED:20230411T131402Z
LAST-MODIFIED:20230411T131402Z
UID:3838-1819544400-1819555200@mahsmi.org
SUMMARY:KJ Museum and Gift Shop Open
DESCRIPTION:
URL:https://mahsmi.org/event/kj-museum-and-gift-shop-open/2027-08-29/
LOCATION:Kingsley-Jenter House\, 302 E. Main Street\, Manchester\, MI\, 48158\, United States
END:VEVENT
BEGIN:VEVENT
DTSTART;TZID=America/Detroit:20270905T130000
DTEND;TZID=America/Detroit:20270905T160000
DTSTAMP:20260420T001018
CREATED:20230411T131402Z
LAST-MODIFIED:20230411T131402Z
UID:3880-1820149200-1820160000@mahsmi.org
SUMMARY:KJ Museum and Gift Shop Open
DESCRIPTION:
URL:https://mahsmi.org/event/kj-museum-and-gift-shop-open/2027-09-05/
LOCATION:Kingsley-Jenter House\, 302 E. Main Street\, Manchester\, MI\, 48158\, United States
END:VEVENT
BEGIN:VEVENT
DTSTART;TZID=America/Detroit:20270912T130000
DTEND;TZID=America/Detroit:20270912T160000
DTSTAMP:20260420T001018
CREATED:20230411T131402Z
LAST-MODIFIED:20230411T131402Z
UID:3883-1820754000-1820764800@mahsmi.org
SUMMARY:KJ Museum and Gift Shop Open
DESCRIPTION:
URL:https://mahsmi.org/event/kj-museum-and-gift-shop-open/2027-09-12/
LOCATION:Kingsley-Jenter House\, 302 E. Main Street\, Manchester\, MI\, 48158\, United States
END:VEVENT
BEGIN:VEVENT
DTSTART;TZID=America/Detroit:20270919T130000
DTEND;TZID=America/Detroit:20270919T160000
DTSTAMP:20260420T001018
CREATED:20230411T131402Z
LAST-MODIFIED:20230411T131402Z
UID:3885-1821358800-1821369600@mahsmi.org
SUMMARY:KJ Museum and Gift Shop Open
DESCRIPTION:
URL:https://mahsmi.org/event/kj-museum-and-gift-shop-open/2027-09-19/
LOCATION:Kingsley-Jenter House\, 302 E. Main Street\, Manchester\, MI\, 48158\, United States
END:VEVENT
BEGIN:VEVENT
DTSTART;TZID=America/Detroit:20270926T130000
DTEND;TZID=America/Detroit:20270926T160000
DTSTAMP:20260420T001018
CREATED:20230411T131402Z
LAST-MODIFIED:20230411T131402Z
UID:3890-1821963600-1821974400@mahsmi.org
SUMMARY:KJ Museum and Gift Shop Open
DESCRIPTION:
URL:https://mahsmi.org/event/kj-museum-and-gift-shop-open/2027-09-26/
LOCATION:Kingsley-Jenter House\, 302 E. Main Street\, Manchester\, MI\, 48158\, United States
END:VEVENT
BEGIN:VEVENT
DTSTART;TZID=America/Detroit:20271003T130000
DTEND;TZID=America/Detroit:20271003T160000
DTSTAMP:20260420T001018
CREATED:20230411T131402Z
LAST-MODIFIED:20230411T131402Z
UID:3893-1822568400-1822579200@mahsmi.org
SUMMARY:KJ Museum and Gift Shop Open
DESCRIPTION:
URL:https://mahsmi.org/event/kj-museum-and-gift-shop-open/2027-10-03/
LOCATION:Kingsley-Jenter House\, 302 E. Main Street\, Manchester\, MI\, 48158\, United States
END:VEVENT
BEGIN:VEVENT
DTSTART;TZID=America/Detroit:20271010T130000
DTEND;TZID=America/Detroit:20271010T160000
DTSTAMP:20260420T001018
CREATED:20230411T131402Z
LAST-MODIFIED:20230411T131402Z
UID:3901-1823173200-1823184000@mahsmi.org
SUMMARY:KJ Museum and Gift Shop Open
DESCRIPTION:
URL:https://mahsmi.org/event/kj-museum-and-gift-shop-open/2027-10-10/
LOCATION:Kingsley-Jenter House\, 302 E. Main Street\, Manchester\, MI\, 48158\, United States
END:VEVENT
BEGIN:VEVENT
DTSTART;TZID=America/Detroit:20271017T130000
DTEND;TZID=America/Detroit:20271017T160000
DTSTAMP:20260420T001018
CREATED:20230411T131402Z
LAST-MODIFIED:20230411T131402Z
UID:3902-1823778000-1823788800@mahsmi.org
SUMMARY:KJ Museum and Gift Shop Open
DESCRIPTION:
URL:https://mahsmi.org/event/kj-museum-and-gift-shop-open/2027-10-17/
LOCATION:Kingsley-Jenter House\, 302 E. Main Street\, Manchester\, MI\, 48158\, United States
END:VEVENT
END:VCALENDAR