BEGIN:VCALENDAR
VERSION:2.0
PRODID:-//Manchester Area Historical Society - ECPv6.15.20//NONSGML v1.0//EN
CALSCALE:GREGORIAN
METHOD:PUBLISH
X-WR-CALNAME:Manchester Area Historical Society
X-ORIGINAL-URL:https://mahsmi.org
X-WR-CALDESC:Events for Manchester Area Historical Society
REFRESH-INTERVAL;VALUE=DURATION:PT1H
X-Robots-Tag:noindex
X-PUBLISHED-TTL:PT1H
BEGIN:VTIMEZONE
TZID:America/Detroit
BEGIN:DAYLIGHT
TZOFFSETFROM:-0500
TZOFFSETTO:-0400
TZNAME:EDT
DTSTART:20240310T070000
END:DAYLIGHT
BEGIN:STANDARD
TZOFFSETFROM:-0400
TZOFFSETTO:-0500
TZNAME:EST
DTSTART:20241103T060000
END:STANDARD
BEGIN:DAYLIGHT
TZOFFSETFROM:-0500
TZOFFSETTO:-0400
TZNAME:EDT
DTSTART:20250309T070000
END:DAYLIGHT
BEGIN:STANDARD
TZOFFSETFROM:-0400
TZOFFSETTO:-0500
TZNAME:EST
DTSTART:20251102T060000
END:STANDARD
BEGIN:DAYLIGHT
TZOFFSETFROM:-0500
TZOFFSETTO:-0400
TZNAME:EDT
DTSTART:20260308T070000
END:DAYLIGHT
BEGIN:STANDARD
TZOFFSETFROM:-0400
TZOFFSETTO:-0500
TZNAME:EST
DTSTART:20261101T060000
END:STANDARD
END:VTIMEZONE
BEGIN:VEVENT
DTSTART;TZID=America/Detroit:20251102T130000
DTEND;TZID=America/Detroit:20251102T160000
DTSTAMP:20260419T200109
CREATED:20230411T131402Z
LAST-MODIFIED:20230411T131402Z
UID:3005-1762088400-1762099200@mahsmi.org
SUMMARY:KJ Museum and Gift Shop Open
DESCRIPTION:
URL:https://mahsmi.org/event/kj-museum-and-gift-shop-open/2025-11-02/
LOCATION:Kingsley-Jenter House\, 302 E. Main Street\, Manchester\, MI\, 48158\, United States
END:VEVENT
BEGIN:VEVENT
DTSTART;TZID=America/Detroit:20251026T130000
DTEND;TZID=America/Detroit:20251026T160000
DTSTAMP:20260419T200109
CREATED:20230411T131402Z
LAST-MODIFIED:20230411T131402Z
UID:2950-1761483600-1761494400@mahsmi.org
SUMMARY:KJ Museum and Gift Shop Open
DESCRIPTION:
URL:https://mahsmi.org/event/kj-museum-and-gift-shop-open/2025-10-26/
LOCATION:Kingsley-Jenter House\, 302 E. Main Street\, Manchester\, MI\, 48158\, United States
END:VEVENT
BEGIN:VEVENT
DTSTART;TZID=America/Detroit:20251019T130000
DTEND;TZID=America/Detroit:20251019T160000
DTSTAMP:20260419T200109
CREATED:20230411T131402Z
LAST-MODIFIED:20230411T131402Z
UID:2949-1760878800-1760889600@mahsmi.org
SUMMARY:KJ Museum and Gift Shop Open
DESCRIPTION:
URL:https://mahsmi.org/event/kj-museum-and-gift-shop-open/2025-10-19/
LOCATION:Kingsley-Jenter House\, 302 E. Main Street\, Manchester\, MI\, 48158\, United States
END:VEVENT
BEGIN:VEVENT
DTSTART;TZID=America/Detroit:20251012T130000
DTEND;TZID=America/Detroit:20251012T160000
DTSTAMP:20260419T200109
CREATED:20230411T131402Z
LAST-MODIFIED:20230411T131402Z
UID:2948-1760274000-1760284800@mahsmi.org
SUMMARY:KJ Museum and Gift Shop Open
DESCRIPTION:
URL:https://mahsmi.org/event/kj-museum-and-gift-shop-open/2025-10-12/
LOCATION:Kingsley-Jenter House\, 302 E. Main Street\, Manchester\, MI\, 48158\, United States
END:VEVENT
BEGIN:VEVENT
DTSTART;TZID=America/Detroit:20251005T130000
DTEND;TZID=America/Detroit:20251005T160000
DTSTAMP:20260419T200109
CREATED:20230411T131402Z
LAST-MODIFIED:20230411T131402Z
UID:2811-1759669200-1759680000@mahsmi.org
SUMMARY:KJ Museum and Gift Shop Open
DESCRIPTION:
URL:https://mahsmi.org/event/kj-museum-and-gift-shop-open/2025-10-05/
LOCATION:Kingsley-Jenter House\, 302 E. Main Street\, Manchester\, MI\, 48158\, United States
END:VEVENT
BEGIN:VEVENT
DTSTART;TZID=America/Detroit:20250928T130000
DTEND;TZID=America/Detroit:20250928T160000
DTSTAMP:20260419T200109
CREATED:20230411T131402Z
LAST-MODIFIED:20230411T131402Z
UID:2810-1759064400-1759075200@mahsmi.org
SUMMARY:KJ Museum and Gift Shop Open
DESCRIPTION:
URL:https://mahsmi.org/event/kj-museum-and-gift-shop-open/2025-09-28/
LOCATION:Kingsley-Jenter House\, 302 E. Main Street\, Manchester\, MI\, 48158\, United States
END:VEVENT
BEGIN:VEVENT
DTSTART;TZID=America/Detroit:20250921T130000
DTEND;TZID=America/Detroit:20250921T160000
DTSTAMP:20260419T200109
CREATED:20230411T131402Z
LAST-MODIFIED:20230411T131402Z
UID:2809-1758459600-1758470400@mahsmi.org
SUMMARY:KJ Museum and Gift Shop Open
DESCRIPTION:
URL:https://mahsmi.org/event/kj-museum-and-gift-shop-open/2025-09-21/
LOCATION:Kingsley-Jenter House\, 302 E. Main Street\, Manchester\, MI\, 48158\, United States
END:VEVENT
BEGIN:VEVENT
DTSTART;TZID=America/Detroit:20250914T130000
DTEND;TZID=America/Detroit:20250914T160000
DTSTAMP:20260419T200109
CREATED:20230411T131402Z
LAST-MODIFIED:20230411T131402Z
UID:2808-1757854800-1757865600@mahsmi.org
SUMMARY:KJ Museum and Gift Shop Open
DESCRIPTION:
URL:https://mahsmi.org/event/kj-museum-and-gift-shop-open/2025-09-14/
LOCATION:Kingsley-Jenter House\, 302 E. Main Street\, Manchester\, MI\, 48158\, United States
END:VEVENT
BEGIN:VEVENT
DTSTART;TZID=America/Detroit:20250907T130000
DTEND;TZID=America/Detroit:20250907T160000
DTSTAMP:20260419T200109
CREATED:20230411T131402Z
LAST-MODIFIED:20230411T131402Z
UID:2807-1757250000-1757260800@mahsmi.org
SUMMARY:KJ Museum and Gift Shop Open
DESCRIPTION:
URL:https://mahsmi.org/event/kj-museum-and-gift-shop-open/2025-09-07/
LOCATION:Kingsley-Jenter House\, 302 E. Main Street\, Manchester\, MI\, 48158\, United States
END:VEVENT
BEGIN:VEVENT
DTSTART;TZID=America/Detroit:20250831T130000
DTEND;TZID=America/Detroit:20250831T160000
DTSTAMP:20260419T200109
CREATED:20230411T131402Z
LAST-MODIFIED:20230411T131402Z
UID:2806-1756645200-1756656000@mahsmi.org
SUMMARY:KJ Museum and Gift Shop Open
DESCRIPTION:
URL:https://mahsmi.org/event/kj-museum-and-gift-shop-open/2025-08-31/
LOCATION:Kingsley-Jenter House\, 302 E. Main Street\, Manchester\, MI\, 48158\, United States
END:VEVENT
BEGIN:VEVENT
DTSTART;TZID=America/Detroit:20250824T130000
DTEND;TZID=America/Detroit:20250824T160000
DTSTAMP:20260419T200109
CREATED:20230411T131402Z
LAST-MODIFIED:20230411T131402Z
UID:2805-1756040400-1756051200@mahsmi.org
SUMMARY:KJ Museum and Gift Shop Open
DESCRIPTION:
URL:https://mahsmi.org/event/kj-museum-and-gift-shop-open/2025-08-24/
LOCATION:Kingsley-Jenter House\, 302 E. Main Street\, Manchester\, MI\, 48158\, United States
END:VEVENT
BEGIN:VEVENT
DTSTART;TZID=America/Detroit:20250817T130000
DTEND;TZID=America/Detroit:20250817T160000
DTSTAMP:20260419T200109
CREATED:20230411T131402Z
LAST-MODIFIED:20230411T131402Z
UID:2804-1755435600-1755446400@mahsmi.org
SUMMARY:KJ Museum and Gift Shop Open
DESCRIPTION:
URL:https://mahsmi.org/event/kj-museum-and-gift-shop-open/2025-08-17/
LOCATION:Kingsley-Jenter House\, 302 E. Main Street\, Manchester\, MI\, 48158\, United States
END:VEVENT
BEGIN:VEVENT
DTSTART;TZID=America/Detroit:20250810T130000
DTEND;TZID=America/Detroit:20250810T160000
DTSTAMP:20260419T200109
CREATED:20230411T131402Z
LAST-MODIFIED:20230411T131402Z
UID:2803-1754830800-1754841600@mahsmi.org
SUMMARY:KJ Museum and Gift Shop Open
DESCRIPTION:
URL:https://mahsmi.org/event/kj-museum-and-gift-shop-open/2025-08-10/
LOCATION:Kingsley-Jenter House\, 302 E. Main Street\, Manchester\, MI\, 48158\, United States
END:VEVENT
BEGIN:VEVENT
DTSTART;TZID=America/Detroit:20250803T130000
DTEND;TZID=America/Detroit:20250803T160000
DTSTAMP:20260419T200109
CREATED:20230411T131402Z
LAST-MODIFIED:20230411T131402Z
UID:2802-1754226000-1754236800@mahsmi.org
SUMMARY:KJ Museum and Gift Shop Open
DESCRIPTION:
URL:https://mahsmi.org/event/kj-museum-and-gift-shop-open/2025-08-03/
LOCATION:Kingsley-Jenter House\, 302 E. Main Street\, Manchester\, MI\, 48158\, United States
END:VEVENT
BEGIN:VEVENT
DTSTART;TZID=America/Detroit:20250727T130000
DTEND;TZID=America/Detroit:20250727T160000
DTSTAMP:20260419T200109
CREATED:20230411T131402Z
LAST-MODIFIED:20230411T131402Z
UID:2801-1753621200-1753632000@mahsmi.org
SUMMARY:KJ Museum and Gift Shop Open
DESCRIPTION:
URL:https://mahsmi.org/event/kj-museum-and-gift-shop-open/2025-07-27/
LOCATION:Kingsley-Jenter House\, 302 E. Main Street\, Manchester\, MI\, 48158\, United States
END:VEVENT
BEGIN:VEVENT
DTSTART;TZID=America/Detroit:20250720T130000
DTEND;TZID=America/Detroit:20250720T160000
DTSTAMP:20260419T200109
CREATED:20230411T131402Z
LAST-MODIFIED:20230411T131402Z
UID:2800-1753016400-1753027200@mahsmi.org
SUMMARY:KJ Museum and Gift Shop Open
DESCRIPTION:
URL:https://mahsmi.org/event/kj-museum-and-gift-shop-open/2025-07-20/
LOCATION:Kingsley-Jenter House\, 302 E. Main Street\, Manchester\, MI\, 48158\, United States
END:VEVENT
BEGIN:VEVENT
DTSTART;TZID=America/Detroit:20250713T130000
DTEND;TZID=America/Detroit:20250713T160000
DTSTAMP:20260419T200109
CREATED:20230411T131402Z
LAST-MODIFIED:20230411T131402Z
UID:2799-1752411600-1752422400@mahsmi.org
SUMMARY:KJ Museum and Gift Shop Open
DESCRIPTION:
URL:https://mahsmi.org/event/kj-museum-and-gift-shop-open/2025-07-13/
LOCATION:Kingsley-Jenter House\, 302 E. Main Street\, Manchester\, MI\, 48158\, United States
END:VEVENT
BEGIN:VEVENT
DTSTART;TZID=America/Detroit:20250706T130000
DTEND;TZID=America/Detroit:20250706T160000
DTSTAMP:20260419T200109
CREATED:20230411T131402Z
LAST-MODIFIED:20230411T131402Z
UID:2798-1751806800-1751817600@mahsmi.org
SUMMARY:KJ Museum and Gift Shop Open
DESCRIPTION:
URL:https://mahsmi.org/event/kj-museum-and-gift-shop-open/2025-07-06/
LOCATION:Kingsley-Jenter House\, 302 E. Main Street\, Manchester\, MI\, 48158\, United States
END:VEVENT
BEGIN:VEVENT
DTSTART;TZID=America/Detroit:20250629T130000
DTEND;TZID=America/Detroit:20250629T160000
DTSTAMP:20260419T200109
CREATED:20230411T131402Z
LAST-MODIFIED:20230411T131402Z
UID:2797-1751202000-1751212800@mahsmi.org
SUMMARY:KJ Museum and Gift Shop Open
DESCRIPTION:
URL:https://mahsmi.org/event/kj-museum-and-gift-shop-open/2025-06-29/
LOCATION:Kingsley-Jenter House\, 302 E. Main Street\, Manchester\, MI\, 48158\, United States
END:VEVENT
BEGIN:VEVENT
DTSTART;TZID=America/Detroit:20250622T130000
DTEND;TZID=America/Detroit:20250622T160000
DTSTAMP:20260419T200109
CREATED:20230411T131402Z
LAST-MODIFIED:20230411T131402Z
UID:2796-1750597200-1750608000@mahsmi.org
SUMMARY:KJ Museum and Gift Shop Open
DESCRIPTION:
URL:https://mahsmi.org/event/kj-museum-and-gift-shop-open/2025-06-22/
LOCATION:Kingsley-Jenter House\, 302 E. Main Street\, Manchester\, MI\, 48158\, United States
END:VEVENT
BEGIN:VEVENT
DTSTART;TZID=America/Detroit:20250615T130000
DTEND;TZID=America/Detroit:20250615T160000
DTSTAMP:20260419T200109
CREATED:20230411T131402Z
LAST-MODIFIED:20230411T131402Z
UID:2795-1749992400-1750003200@mahsmi.org
SUMMARY:KJ Museum and Gift Shop Open
DESCRIPTION:
URL:https://mahsmi.org/event/kj-museum-and-gift-shop-open/2025-06-15/
LOCATION:Kingsley-Jenter House\, 302 E. Main Street\, Manchester\, MI\, 48158\, United States
END:VEVENT
BEGIN:VEVENT
DTSTART;TZID=America/Detroit:20250608T130000
DTEND;TZID=America/Detroit:20250608T160000
DTSTAMP:20260419T200109
CREATED:20230411T131402Z
LAST-MODIFIED:20230411T131402Z
UID:2794-1749387600-1749398400@mahsmi.org
SUMMARY:KJ Museum and Gift Shop Open
DESCRIPTION:
URL:https://mahsmi.org/event/kj-museum-and-gift-shop-open/2025-06-08/
LOCATION:Kingsley-Jenter House\, 302 E. Main Street\, Manchester\, MI\, 48158\, United States
END:VEVENT
BEGIN:VEVENT
DTSTART;TZID=America/Detroit:20250601T130000
DTEND;TZID=America/Detroit:20250601T160000
DTSTAMP:20260419T200109
CREATED:20230411T131402Z
LAST-MODIFIED:20230411T131402Z
UID:2793-1748782800-1748793600@mahsmi.org
SUMMARY:KJ Museum and Gift Shop Open
DESCRIPTION:
URL:https://mahsmi.org/event/kj-museum-and-gift-shop-open/2025-06-01/
LOCATION:Kingsley-Jenter House\, 302 E. Main Street\, Manchester\, MI\, 48158\, United States
END:VEVENT
BEGIN:VEVENT
DTSTART;TZID=America/Detroit:20250525T130000
DTEND;TZID=America/Detroit:20250525T160000
DTSTAMP:20260419T200109
CREATED:20230411T131402Z
LAST-MODIFIED:20230411T131402Z
UID:2792-1748178000-1748188800@mahsmi.org
SUMMARY:KJ Museum and Gift Shop Open
DESCRIPTION:
URL:https://mahsmi.org/event/kj-museum-and-gift-shop-open/2025-05-25/
LOCATION:Kingsley-Jenter House\, 302 E. Main Street\, Manchester\, MI\, 48158\, United States
END:VEVENT
BEGIN:VEVENT
DTSTART;TZID=America/Detroit:20250518T130000
DTEND;TZID=America/Detroit:20250518T160000
DTSTAMP:20260419T200109
CREATED:20230411T131402Z
LAST-MODIFIED:20230411T131402Z
UID:2791-1747573200-1747584000@mahsmi.org
SUMMARY:KJ Museum and Gift Shop Open
DESCRIPTION:
URL:https://mahsmi.org/event/kj-museum-and-gift-shop-open/2025-05-18/
LOCATION:Kingsley-Jenter House\, 302 E. Main Street\, Manchester\, MI\, 48158\, United States
END:VEVENT
BEGIN:VEVENT
DTSTART;TZID=America/Detroit:20250511T130000
DTEND;TZID=America/Detroit:20250511T160000
DTSTAMP:20260419T200109
CREATED:20230411T131402Z
LAST-MODIFIED:20230411T131402Z
UID:2790-1746968400-1746979200@mahsmi.org
SUMMARY:KJ Museum and Gift Shop Open
DESCRIPTION:
URL:https://mahsmi.org/event/kj-museum-and-gift-shop-open/2025-05-11/
LOCATION:Kingsley-Jenter House\, 302 E. Main Street\, Manchester\, MI\, 48158\, United States
END:VEVENT
BEGIN:VEVENT
DTSTART;TZID=America/Detroit:20250508T190000
DTEND;TZID=America/Detroit:20250508T203000
DTSTAMP:20260419T200109
CREATED:20240916T212424Z
LAST-MODIFIED:20241205T215612Z
UID:3362-1746730800-1746736200@mahsmi.org
SUMMARY:Manchester Area Historical Society Monthly Meeting
DESCRIPTION:Manchester Area Historical Society (MAHS) strives to make Manchester area history interesting\, useful and meaningful to the citizens of today. Please join us for our regular monthly meeting\, held September through June\, the second Thursday of the month\, 7:00pm\, at the Kingsley-Jenter House 302 E. Main St Manchester (unless otherwise noted). \nOur meetings are informal and include presentations on a wide variety of interesting topics representing a mix of local\, state and national themes. Everyone is welcome\, and attending a meeting is an excellent way to get started on your own journey into history!
URL:https://mahsmi.org/event/manchester-area-historical-society-monthly-meeting-2-2025-03-13/2025-05-08/
LOCATION:Kingsley-Jenter House\, 302 E. Main Street\, Manchester\, MI\, 48158\, United States
END:VEVENT
BEGIN:VEVENT
DTSTART;TZID=America/Detroit:20250504T130000
DTEND;TZID=America/Detroit:20250504T160000
DTSTAMP:20260419T200109
CREATED:20230411T131402Z
LAST-MODIFIED:20230411T131402Z
UID:2789-1746363600-1746374400@mahsmi.org
SUMMARY:KJ Museum and Gift Shop Open
DESCRIPTION:
URL:https://mahsmi.org/event/kj-museum-and-gift-shop-open/2025-05-04/
LOCATION:Kingsley-Jenter House\, 302 E. Main Street\, Manchester\, MI\, 48158\, United States
END:VEVENT
BEGIN:VEVENT
DTSTART;TZID=America/Detroit:20250427T130000
DTEND;TZID=America/Detroit:20250427T160000
DTSTAMP:20260419T200109
CREATED:20230411T131402Z
LAST-MODIFIED:20230411T131402Z
UID:2788-1745758800-1745769600@mahsmi.org
SUMMARY:KJ Museum and Gift Shop Open
DESCRIPTION:
URL:https://mahsmi.org/event/kj-museum-and-gift-shop-open/2025-04-27/
LOCATION:Kingsley-Jenter House\, 302 E. Main Street\, Manchester\, MI\, 48158\, United States
END:VEVENT
BEGIN:VEVENT
DTSTART;TZID=America/Detroit:20250420T130000
DTEND;TZID=America/Detroit:20250420T160000
DTSTAMP:20260419T200109
CREATED:20230411T131402Z
LAST-MODIFIED:20230411T131402Z
UID:2787-1745154000-1745164800@mahsmi.org
SUMMARY:KJ Museum and Gift Shop Open
DESCRIPTION:
URL:https://mahsmi.org/event/kj-museum-and-gift-shop-open/2025-04-20/
LOCATION:Kingsley-Jenter House\, 302 E. Main Street\, Manchester\, MI\, 48158\, United States
END:VEVENT
END:VCALENDAR