BEGIN:VCALENDAR
VERSION:2.0
PRODID:-//Manchester Area Historical Society - ECPv6.15.20//NONSGML v1.0//EN
CALSCALE:GREGORIAN
METHOD:PUBLISH
X-ORIGINAL-URL:https://mahsmi.org
X-WR-CALDESC:Events for Manchester Area Historical Society
REFRESH-INTERVAL;VALUE=DURATION:PT1H
X-Robots-Tag:noindex
X-PUBLISHED-TTL:PT1H
BEGIN:VTIMEZONE
TZID:America/Detroit
BEGIN:DAYLIGHT
TZOFFSETFROM:-0500
TZOFFSETTO:-0400
TZNAME:EDT
DTSTART:20220313T070000
END:DAYLIGHT
BEGIN:STANDARD
TZOFFSETFROM:-0400
TZOFFSETTO:-0500
TZNAME:EST
DTSTART:20221106T060000
END:STANDARD
BEGIN:DAYLIGHT
TZOFFSETFROM:-0500
TZOFFSETTO:-0400
TZNAME:EDT
DTSTART:20230312T070000
END:DAYLIGHT
BEGIN:STANDARD
TZOFFSETFROM:-0400
TZOFFSETTO:-0500
TZNAME:EST
DTSTART:20231105T060000
END:STANDARD
BEGIN:DAYLIGHT
TZOFFSETFROM:-0500
TZOFFSETTO:-0400
TZNAME:EDT
DTSTART:20240310T070000
END:DAYLIGHT
BEGIN:STANDARD
TZOFFSETFROM:-0400
TZOFFSETTO:-0500
TZNAME:EST
DTSTART:20241103T060000
END:STANDARD
BEGIN:DAYLIGHT
TZOFFSETFROM:-0500
TZOFFSETTO:-0400
TZNAME:EDT
DTSTART:20250309T070000
END:DAYLIGHT
BEGIN:STANDARD
TZOFFSETFROM:-0400
TZOFFSETTO:-0500
TZNAME:EST
DTSTART:20251102T060000
END:STANDARD
END:VTIMEZONE
BEGIN:VEVENT
DTSTART;TZID=America/Detroit:20240908T130000
DTEND;TZID=America/Detroit:20240908T160000
DTSTAMP:20260425T080901
CREATED:20230411T131402Z
LAST-MODIFIED:20231030T131807Z
UID:2720-1725800400-1725811200@mahsmi.org
SUMMARY:KJ Museum and Gift Shop Open
DESCRIPTION:
URL:https://mahsmi.org/event/kj-museum-and-gift-shop-open/2024-09-08/
LOCATION:Kingsley-Jenter House\, 302 E. Main Street\, Manchester\, MI\, 48158\, United States
END:VEVENT
BEGIN:VEVENT
DTSTART;TZID=America/Detroit:20240901T130000
DTEND;TZID=America/Detroit:20240901T160000
DTSTAMP:20260425T080901
CREATED:20230411T131402Z
LAST-MODIFIED:20231030T131807Z
UID:2719-1725195600-1725206400@mahsmi.org
SUMMARY:KJ Museum and Gift Shop Open
DESCRIPTION:
URL:https://mahsmi.org/event/kj-museum-and-gift-shop-open/2024-09-01/
LOCATION:Kingsley-Jenter House\, 302 E. Main Street\, Manchester\, MI\, 48158\, United States
END:VEVENT
BEGIN:VEVENT
DTSTART;TZID=America/Detroit:20240825T130000
DTEND;TZID=America/Detroit:20240825T160000
DTSTAMP:20260425T080901
CREATED:20230411T131402Z
LAST-MODIFIED:20231030T131807Z
UID:2718-1724590800-1724601600@mahsmi.org
SUMMARY:KJ Museum and Gift Shop Open
DESCRIPTION:
URL:https://mahsmi.org/event/kj-museum-and-gift-shop-open/2024-08-25/
LOCATION:Kingsley-Jenter House\, 302 E. Main Street\, Manchester\, MI\, 48158\, United States
END:VEVENT
BEGIN:VEVENT
DTSTART;TZID=America/Detroit:20240818T130000
DTEND;TZID=America/Detroit:20240818T160000
DTSTAMP:20260425T080901
CREATED:20230411T131402Z
LAST-MODIFIED:20231030T131807Z
UID:2717-1723986000-1723996800@mahsmi.org
SUMMARY:KJ Museum and Gift Shop Open
DESCRIPTION:
URL:https://mahsmi.org/event/kj-museum-and-gift-shop-open/2024-08-18/
LOCATION:Kingsley-Jenter House\, 302 E. Main Street\, Manchester\, MI\, 48158\, United States
END:VEVENT
BEGIN:VEVENT
DTSTART;TZID=America/Detroit:20240811T130000
DTEND;TZID=America/Detroit:20240811T160000
DTSTAMP:20260425T080901
CREATED:20230411T131402Z
LAST-MODIFIED:20231030T131806Z
UID:2716-1723381200-1723392000@mahsmi.org
SUMMARY:KJ Museum and Gift Shop Open
DESCRIPTION:
URL:https://mahsmi.org/event/kj-museum-and-gift-shop-open/2024-08-11/
LOCATION:Kingsley-Jenter House\, 302 E. Main Street\, Manchester\, MI\, 48158\, United States
END:VEVENT
BEGIN:VEVENT
DTSTART;TZID=America/Detroit:20240804T130000
DTEND;TZID=America/Detroit:20240804T160000
DTSTAMP:20260425T080901
CREATED:20230411T131402Z
LAST-MODIFIED:20231030T131806Z
UID:2715-1722776400-1722787200@mahsmi.org
SUMMARY:KJ Museum and Gift Shop Open
DESCRIPTION:
URL:https://mahsmi.org/event/kj-museum-and-gift-shop-open/2024-08-04/
LOCATION:Kingsley-Jenter House\, 302 E. Main Street\, Manchester\, MI\, 48158\, United States
END:VEVENT
BEGIN:VEVENT
DTSTART;TZID=America/Detroit:20240728T130000
DTEND;TZID=America/Detroit:20240728T160000
DTSTAMP:20260425T080901
CREATED:20230411T131402Z
LAST-MODIFIED:20231030T131805Z
UID:2714-1722171600-1722182400@mahsmi.org
SUMMARY:KJ Museum and Gift Shop Open
DESCRIPTION:
URL:https://mahsmi.org/event/kj-museum-and-gift-shop-open/2024-07-28/
LOCATION:Kingsley-Jenter House\, 302 E. Main Street\, Manchester\, MI\, 48158\, United States
END:VEVENT
BEGIN:VEVENT
DTSTART;TZID=America/Detroit:20240721T130000
DTEND;TZID=America/Detroit:20240721T160000
DTSTAMP:20260425T080901
CREATED:20230411T131402Z
LAST-MODIFIED:20231030T131805Z
UID:2713-1721566800-1721577600@mahsmi.org
SUMMARY:KJ Museum and Gift Shop Open
DESCRIPTION:
URL:https://mahsmi.org/event/kj-museum-and-gift-shop-open/2024-07-21/
LOCATION:Kingsley-Jenter House\, 302 E. Main Street\, Manchester\, MI\, 48158\, United States
END:VEVENT
BEGIN:VEVENT
DTSTART;TZID=America/Detroit:20240714T130000
DTEND;TZID=America/Detroit:20240714T160000
DTSTAMP:20260425T080901
CREATED:20230411T131402Z
LAST-MODIFIED:20231030T131805Z
UID:2712-1720962000-1720972800@mahsmi.org
SUMMARY:KJ Museum and Gift Shop Open
DESCRIPTION:
URL:https://mahsmi.org/event/kj-museum-and-gift-shop-open/2024-07-14/
LOCATION:Kingsley-Jenter House\, 302 E. Main Street\, Manchester\, MI\, 48158\, United States
END:VEVENT
BEGIN:VEVENT
DTSTART;TZID=America/Detroit:20240707T130000
DTEND;TZID=America/Detroit:20240707T160000
DTSTAMP:20260425T080901
CREATED:20230411T131402Z
LAST-MODIFIED:20231030T131805Z
UID:2711-1720357200-1720368000@mahsmi.org
SUMMARY:KJ Museum and Gift Shop Open
DESCRIPTION:
URL:https://mahsmi.org/event/kj-museum-and-gift-shop-open/2024-07-07/
LOCATION:Kingsley-Jenter House\, 302 E. Main Street\, Manchester\, MI\, 48158\, United States
END:VEVENT
BEGIN:VEVENT
DTSTART;TZID=America/Detroit:20240630T130000
DTEND;TZID=America/Detroit:20240630T160000
DTSTAMP:20260425T080901
CREATED:20230411T131402Z
LAST-MODIFIED:20231030T131805Z
UID:2710-1719752400-1719763200@mahsmi.org
SUMMARY:KJ Museum and Gift Shop Open
DESCRIPTION:
URL:https://mahsmi.org/event/kj-museum-and-gift-shop-open/2024-06-30/
LOCATION:Kingsley-Jenter House\, 302 E. Main Street\, Manchester\, MI\, 48158\, United States
END:VEVENT
BEGIN:VEVENT
DTSTART;TZID=America/Detroit:20240623T130000
DTEND;TZID=America/Detroit:20240623T160000
DTSTAMP:20260425T080901
CREATED:20230411T131402Z
LAST-MODIFIED:20231030T131805Z
UID:2709-1719147600-1719158400@mahsmi.org
SUMMARY:KJ Museum and Gift Shop Open
DESCRIPTION:
URL:https://mahsmi.org/event/kj-museum-and-gift-shop-open/2024-06-23/
LOCATION:Kingsley-Jenter House\, 302 E. Main Street\, Manchester\, MI\, 48158\, United States
END:VEVENT
BEGIN:VEVENT
DTSTART;TZID=America/Detroit:20240616T130000
DTEND;TZID=America/Detroit:20240616T160000
DTSTAMP:20260425T080901
CREATED:20230411T131402Z
LAST-MODIFIED:20231030T131805Z
UID:2708-1718542800-1718553600@mahsmi.org
SUMMARY:KJ Museum and Gift Shop Open
DESCRIPTION:
URL:https://mahsmi.org/event/kj-museum-and-gift-shop-open/2024-06-16/
LOCATION:Kingsley-Jenter House\, 302 E. Main Street\, Manchester\, MI\, 48158\, United States
END:VEVENT
BEGIN:VEVENT
DTSTART;TZID=America/Detroit:20240609T130000
DTEND;TZID=America/Detroit:20240609T160000
DTSTAMP:20260425T080901
CREATED:20230411T131402Z
LAST-MODIFIED:20231030T131805Z
UID:2707-1717938000-1717948800@mahsmi.org
SUMMARY:KJ Museum and Gift Shop Open
DESCRIPTION:
URL:https://mahsmi.org/event/kj-museum-and-gift-shop-open/2024-06-09/
LOCATION:Kingsley-Jenter House\, 302 E. Main Street\, Manchester\, MI\, 48158\, United States
END:VEVENT
BEGIN:VEVENT
DTSTART;TZID=America/Detroit:20240602T130000
DTEND;TZID=America/Detroit:20240602T160000
DTSTAMP:20260425T080901
CREATED:20230411T131402Z
LAST-MODIFIED:20231030T131805Z
UID:2706-1717333200-1717344000@mahsmi.org
SUMMARY:KJ Museum and Gift Shop Open
DESCRIPTION:
URL:https://mahsmi.org/event/kj-museum-and-gift-shop-open/2024-06-02/
LOCATION:Kingsley-Jenter House\, 302 E. Main Street\, Manchester\, MI\, 48158\, United States
END:VEVENT
BEGIN:VEVENT
DTSTART;TZID=America/Detroit:20240526T130000
DTEND;TZID=America/Detroit:20240526T160000
DTSTAMP:20260425T080901
CREATED:20230411T131402Z
LAST-MODIFIED:20231030T131805Z
UID:2705-1716728400-1716739200@mahsmi.org
SUMMARY:KJ Museum and Gift Shop Open
DESCRIPTION:
URL:https://mahsmi.org/event/kj-museum-and-gift-shop-open/2024-05-26/
LOCATION:Kingsley-Jenter House\, 302 E. Main Street\, Manchester\, MI\, 48158\, United States
END:VEVENT
BEGIN:VEVENT
DTSTART;TZID=America/Detroit:20240519T130000
DTEND;TZID=America/Detroit:20240519T160000
DTSTAMP:20260425T080901
CREATED:20230411T131402Z
LAST-MODIFIED:20231030T131803Z
UID:2704-1716123600-1716134400@mahsmi.org
SUMMARY:KJ Museum and Gift Shop Open
DESCRIPTION:
URL:https://mahsmi.org/event/kj-museum-and-gift-shop-open/2024-05-19/
LOCATION:Kingsley-Jenter House\, 302 E. Main Street\, Manchester\, MI\, 48158\, United States
END:VEVENT
BEGIN:VEVENT
DTSTART;TZID=America/Detroit:20240512T130000
DTEND;TZID=America/Detroit:20240512T160000
DTSTAMP:20260425T080901
CREATED:20230411T131402Z
LAST-MODIFIED:20231030T131803Z
UID:2703-1715518800-1715529600@mahsmi.org
SUMMARY:KJ Museum and Gift Shop Open
DESCRIPTION:
URL:https://mahsmi.org/event/kj-museum-and-gift-shop-open/2024-05-12/
LOCATION:Kingsley-Jenter House\, 302 E. Main Street\, Manchester\, MI\, 48158\, United States
END:VEVENT
BEGIN:VEVENT
DTSTART;TZID=America/Detroit:20240505T130000
DTEND;TZID=America/Detroit:20240505T160000
DTSTAMP:20260425T080901
CREATED:20230411T131402Z
LAST-MODIFIED:20231030T131803Z
UID:2702-1714914000-1714924800@mahsmi.org
SUMMARY:KJ Museum and Gift Shop Open
DESCRIPTION:
URL:https://mahsmi.org/event/kj-museum-and-gift-shop-open/2024-05-05/
LOCATION:Kingsley-Jenter House\, 302 E. Main Street\, Manchester\, MI\, 48158\, United States
END:VEVENT
BEGIN:VEVENT
DTSTART;TZID=America/Detroit:20240428T130000
DTEND;TZID=America/Detroit:20240428T160000
DTSTAMP:20260425T080901
CREATED:20230411T131402Z
LAST-MODIFIED:20231030T131803Z
UID:2701-1714309200-1714320000@mahsmi.org
SUMMARY:KJ Museum and Gift Shop Open
DESCRIPTION:
URL:https://mahsmi.org/event/kj-museum-and-gift-shop-open/2024-04-28/
LOCATION:Kingsley-Jenter House\, 302 E. Main Street\, Manchester\, MI\, 48158\, United States
END:VEVENT
BEGIN:VEVENT
DTSTART;TZID=America/Detroit:20240409T190000
DTEND;TZID=America/Detroit:20240409T203000
DTSTAMP:20260425T080901
CREATED:20240311T143225Z
LAST-MODIFIED:20240322T162143Z
UID:3175-1712689200-1712694600@mahsmi.org
SUMMARY:Deconstructing the Past Summary Talk - Sutton/KolongowskiFarm
DESCRIPTION:Join us for a summary discussion on the interesting historical finds while deconstructing the Sutton/Kolongowski Farm on Noggles Rd! \nDeconstructing the Past: From farmstead to nature preserve – Coming full circle \nThe Manchester Area Historical Society (MAHS) will host a presentation about the history of a farm carved out of the Irish Hills in the 1860s. “Deconstructing the Past” will recount the history of a farmhouse and the people who built and modified it over 160 years\, and how the surrounding farmstead will become the future Iron Creek Preserve. \nThis presentation is free and open to the public. \nThis talk will take us full circle\, from the early days before European settlement\, through the development of this 76-acre parcel of land into the future Iron Creek Preserve. In between\, we will review the lives of the Sutton and Kolongowski families\, and how the house they built and modified was methodically taken apart\, allowing many of the materials to be reclaimed for future use. Artifacts and materials will be available to view. \nThe proposal to preserve the 1860-era house was not successful\, so a series of public workshops at the site were conducted in the fall of 2023 during the deconstruction to document the process with video and pictures and to preserve key artifacts from the site. This presentation will summarize the entire process. Additional research and planning are underway. \nAcquire your free tickets here
URL:https://mahsmi.org/event/deconstructing-the-past-summary-talk-sutton-kolongowskifarm/
LOCATION:Kingsley-Jenter House\, 302 E. Main Street\, Manchester\, MI\, 48158\, United States
END:VEVENT
BEGIN:VEVENT
DTSTART;TZID=America/Detroit:20231214T190000
DTEND;TZID=America/Detroit:20231214T210000
DTSTAMP:20260425T080901
CREATED:20230309T162800Z
LAST-MODIFIED:20240108T223304Z
UID:2166-1702580400-1702587600@mahsmi.org
SUMMARY:MAHS Monthly Meeting
DESCRIPTION:MAHS strives to make Manchester area history interesting\, useful and meaningful to the citizens of today. Please join us for our regular monthly meeting\, held September through June\, the second Thursday of the month\, 7:00pm\, at the Kingsley-Jenter House. \nOur meetings are informal and include presentations on a wide variety of interesting topics representing a mix of local\, state and national themes. Everyone is welcome\, and attending a meeting is an excellent way to get started on your own journey into history! \n\nMANCHESTER AREA HISTORICAL SOCIETY\nGeneral Membership Meeting\nThursday\, January 11\, 2024\, 7:00 PM\nMAHS Kingsley-Jenter House\, 302 E. Main\nAGENDA\n1. Recent and Upcoming MAHS Activities\nBlacksmith Shop Concerts – resume Saturday January 20\nBSS Crafting Classes (Wednesday evenings at BSS)\n“Deconstructing the Past” Summary Talk – In development\nSunday “historical workshops” – Begin in February at the KJ House\nAddition of Comcast Internet Access to KJ House – Jaimie Schmidt\nSpring 2024 Historic Home Tour – Merrill Guerra and Jaimie Schmidt\nSeeking Potential Topics for 2024 MAHS Meetings – Ray Berg\n2. Presentation – “Albert Kahn Family Women\, A Quiet Dignity”\nCarol Kahn (Manchester Township)\nRefreshments: Caroline Lange and Michael Hobbs\n\nNext Meeting: Thursday\, February 8\, 7:00 PM – “Show and Tell”\, Jim Wilson\, Moderator
URL:https://mahsmi.org/event/mahs-monthly-meeting-7/
LOCATION:Kingsley-Jenter House\, 302 E. Main Street\, Manchester\, MI\, 48158\, United States
END:VEVENT
BEGIN:VEVENT
DTSTART;TZID=America/Detroit:20231109T190000
DTEND;TZID=America/Detroit:20231109T210000
DTSTAMP:20260425T080901
CREATED:20230309T162706Z
LAST-MODIFIED:20230309T162706Z
UID:2164-1699556400-1699563600@mahsmi.org
SUMMARY:MAHS Monthly Meeting
DESCRIPTION:MAHS strives to make Manchester area history interesting\, useful and meaningful to the citizens of today. Please join us for our regular monthly meeting\, held September through June\, the second Thursday of the month\, 7:00pm\, at the Kingsley-Jenter House. \nOur meetings are informal and include presentations on a wide variety of interesting topics representing a mix of local\, state and national themes. Everyone is welcome\, and attending a meeting is an excellent way to get started on your own journey into history!
URL:https://mahsmi.org/event/mahs-monthly-meeting-6/
LOCATION:Kingsley-Jenter House\, 302 E. Main Street\, Manchester\, MI\, 48158\, United States
END:VEVENT
BEGIN:VEVENT
DTSTART;TZID=America/Detroit:20231031T170000
DTEND;TZID=America/Detroit:20231031T190000
DTSTAMP:20260425T080901
CREATED:20230927T212702Z
LAST-MODIFIED:20230927T212702Z
UID:2627-1698771600-1698778800@mahsmi.org
SUMMARY:Trick or Treating on the Porch
DESCRIPTION:Stop by the KJ House during Manchester’s trick or treating hours and receive your trick or treat in an unusual way!!!!
URL:https://mahsmi.org/event/trick-or-treating-on-the-porch/
LOCATION:Kingsley-Jenter House\, 302 E. Main Street\, Manchester\, MI\, 48158\, United States
END:VEVENT
BEGIN:VEVENT
DTSTART;TZID=America/Detroit:20231028T193000
DTEND;TZID=America/Detroit:20231028T213000
DTSTAMP:20260425T080901
CREATED:20230927T213056Z
LAST-MODIFIED:20230928T215843Z
UID:2629-1698521400-1698528600@mahsmi.org
SUMMARY:Haunted Walking Tour - SOLD OUT
DESCRIPTION:
URL:https://mahsmi.org/event/haunted-walking-tour-sold-out/
LOCATION:Kingsley-Jenter House\, 302 E. Main Street\, Manchester\, MI\, 48158\, United States
END:VEVENT
BEGIN:VEVENT
DTSTART;TZID=America/Detroit:20231012T190000
DTEND;TZID=America/Detroit:20231012T210000
DTSTAMP:20260425T080901
CREATED:20230309T162610Z
LAST-MODIFIED:20230309T162610Z
UID:2162-1697137200-1697144400@mahsmi.org
SUMMARY:MAHS Monthly Meeting
DESCRIPTION:MAHS strives to make Manchester area history interesting\, useful and meaningful to the citizens of today. Please join us for our regular monthly meeting\, held September through June\, the second Thursday of the month\, 7:00pm\, at the Kingsley-Jenter House. \nOur meetings are informal and include presentations on a wide variety of interesting topics representing a mix of local\, state and national themes. Everyone is welcome\, and attending a meeting is an excellent way to get started on your own journey into history!
URL:https://mahsmi.org/event/mahs-monthly-meeting-5/
LOCATION:Kingsley-Jenter House\, 302 E. Main Street\, Manchester\, MI\, 48158\, United States
END:VEVENT
BEGIN:VEVENT
DTSTART;TZID=America/Detroit:20230729T090000
DTEND;TZID=America/Detroit:20230729T170000
DTSTAMP:20260425T080901
CREATED:20230707T143040Z
LAST-MODIFIED:20230707T143040Z
UID:2524-1690621200-1690650000@mahsmi.org
SUMMARY:Garage Sale
DESCRIPTION:
URL:https://mahsmi.org/event/garage-sale/
LOCATION:Kingsley-Jenter House\, 302 E. Main Street\, Manchester\, MI\, 48158\, United States
END:VEVENT
BEGIN:VEVENT
DTSTART;TZID=America/Detroit:20230728T090000
DTEND;TZID=America/Detroit:20230728T170000
DTSTAMP:20260425T080901
CREATED:20230707T143109Z
LAST-MODIFIED:20230711T211710Z
UID:2526-1690534800-1690563600@mahsmi.org
SUMMARY:Garage Sale
DESCRIPTION:
URL:https://mahsmi.org/event/garage-sale-2/
LOCATION:Kingsley-Jenter House\, 302 E. Main Street\, Manchester\, MI\, 48158\, United States
END:VEVENT
BEGIN:VEVENT
DTSTART;TZID=America/Detroit:20230511T190000
DTEND;TZID=America/Detroit:20230511T210000
DTSTAMP:20260425T080901
CREATED:20230309T162320Z
LAST-MODIFIED:20230506T150134Z
UID:2156-1683831600-1683838800@mahsmi.org
SUMMARY:MAHS Monthly Meeting
DESCRIPTION:MAHS strives to make Manchester area history interesting\, useful and meaningful to the citizens of today. Please join us for our regular monthly meeting\, held September through June\, the second Thursday of the month\, 7:00pm\, at the Kingsley-Jenter House. \nOur meetings are informal and include presentations on a wide variety of interesting topics representing a mix of local\, state and national themes. Everyone is welcome\, and attending a meeting is an excellent way to get started on your own journey into history! \nMAHS Agenda May 11 2023 (1) \nSearch for the Oldest Photographs of Manchester!!!   Refreshments provided.
URL:https://mahsmi.org/event/mahs-monthly-meeting-2/
LOCATION:Kingsley-Jenter House\, 302 E. Main Street\, Manchester\, MI\, 48158\, United States
END:VEVENT
BEGIN:VEVENT
DTSTART;TZID=America/Detroit:20230416T130000
DTEND;TZID=America/Detroit:20230416T160000
DTSTAMP:20260425T080901
CREATED:20230411T131402Z
LAST-MODIFIED:20231029T183649Z
UID:2377-1681650000-1681660800@mahsmi.org
SUMMARY:KJ Museum and Gift Shop Open
DESCRIPTION:
URL:https://mahsmi.org/event/kj-museum-and-gift-shop-open/2023-04-16/
LOCATION:Kingsley-Jenter House\, 302 E. Main Street\, Manchester\, MI\, 48158\, United States
END:VEVENT
END:VCALENDAR