BEGIN:VCALENDAR
VERSION:2.0
PRODID:-//Manchester Area Historical Society - ECPv6.15.20//NONSGML v1.0//EN
CALSCALE:GREGORIAN
METHOD:PUBLISH
X-ORIGINAL-URL:https://mahsmi.org
X-WR-CALDESC:Events for Manchester Area Historical Society
REFRESH-INTERVAL;VALUE=DURATION:PT1H
X-Robots-Tag:noindex
X-PUBLISHED-TTL:PT1H
BEGIN:VTIMEZONE
TZID:America/Detroit
BEGIN:DAYLIGHT
TZOFFSETFROM:-0500
TZOFFSETTO:-0400
TZNAME:EDT
DTSTART:20270314T070000
END:DAYLIGHT
BEGIN:STANDARD
TZOFFSETFROM:-0400
TZOFFSETTO:-0500
TZNAME:EST
DTSTART:20271107T060000
END:STANDARD
BEGIN:DAYLIGHT
TZOFFSETFROM:-0500
TZOFFSETTO:-0400
TZNAME:EDT
DTSTART:20280312T070000
END:DAYLIGHT
BEGIN:STANDARD
TZOFFSETFROM:-0400
TZOFFSETTO:-0500
TZNAME:EST
DTSTART:20281105T060000
END:STANDARD
BEGIN:DAYLIGHT
TZOFFSETFROM:-0500
TZOFFSETTO:-0400
TZNAME:EDT
DTSTART:20290311T070000
END:DAYLIGHT
BEGIN:STANDARD
TZOFFSETFROM:-0400
TZOFFSETTO:-0500
TZNAME:EST
DTSTART:20291104T060000
END:STANDARD
END:VTIMEZONE
BEGIN:VEVENT
DTSTART;TZID=America/Detroit:20280227T130000
DTEND;TZID=America/Detroit:20280227T160000
DTSTAMP:20260421T191840
CREATED:20230309T172456Z
LAST-MODIFIED:20230309T172456Z
UID:3959-1835269200-1835280000@mahsmi.org
SUMMARY:Blacksmith Shop Open
DESCRIPTION:
URL:https://mahsmi.org/event/blacksmith-shop-open-2/2028-02-27/
LOCATION:Blacksmith Shop\, 324 E. Main St\, Manchester\, MI\, 48158\, United States
END:VEVENT
BEGIN:VEVENT
DTSTART;TZID=America/Detroit:20280305T130000
DTEND;TZID=America/Detroit:20280305T160000
DTSTAMP:20260421T191840
CREATED:20230309T172456Z
LAST-MODIFIED:20230309T172456Z
UID:3960-1835874000-1835884800@mahsmi.org
SUMMARY:Blacksmith Shop Open
DESCRIPTION:
URL:https://mahsmi.org/event/blacksmith-shop-open-2/2028-03-05/
LOCATION:Blacksmith Shop\, 324 E. Main St\, Manchester\, MI\, 48158\, United States
END:VEVENT
BEGIN:VEVENT
DTSTART;TZID=America/Detroit:20280312T130000
DTEND;TZID=America/Detroit:20280312T160000
DTSTAMP:20260421T191840
CREATED:20230309T172456Z
LAST-MODIFIED:20230309T172456Z
UID:3961-1836478800-1836489600@mahsmi.org
SUMMARY:Blacksmith Shop Open
DESCRIPTION:
URL:https://mahsmi.org/event/blacksmith-shop-open-2/2028-03-12/
LOCATION:Blacksmith Shop\, 324 E. Main St\, Manchester\, MI\, 48158\, United States
END:VEVENT
BEGIN:VEVENT
DTSTART;TZID=America/Detroit:20280319T130000
DTEND;TZID=America/Detroit:20280319T160000
DTSTAMP:20260421T191840
CREATED:20230309T172456Z
LAST-MODIFIED:20230309T172456Z
UID:3962-1837083600-1837094400@mahsmi.org
SUMMARY:Blacksmith Shop Open
DESCRIPTION:
URL:https://mahsmi.org/event/blacksmith-shop-open-2/2028-03-19/
LOCATION:Blacksmith Shop\, 324 E. Main St\, Manchester\, MI\, 48158\, United States
END:VEVENT
BEGIN:VEVENT
DTSTART;TZID=America/Detroit:20280326T130000
DTEND;TZID=America/Detroit:20280326T160000
DTSTAMP:20260421T191840
CREATED:20230309T172456Z
LAST-MODIFIED:20230309T172456Z
UID:3964-1837688400-1837699200@mahsmi.org
SUMMARY:Blacksmith Shop Open
DESCRIPTION:
URL:https://mahsmi.org/event/blacksmith-shop-open-2/2028-03-26/
LOCATION:Blacksmith Shop\, 324 E. Main St\, Manchester\, MI\, 48158\, United States
END:VEVENT
BEGIN:VEVENT
DTSTART;TZID=America/Detroit:20280402T130000
DTEND;TZID=America/Detroit:20280402T160000
DTSTAMP:20260421T191840
CREATED:20230309T172456Z
LAST-MODIFIED:20230309T172456Z
UID:3966-1838293200-1838304000@mahsmi.org
SUMMARY:Blacksmith Shop Open
DESCRIPTION:
URL:https://mahsmi.org/event/blacksmith-shop-open-2/2028-04-02/
LOCATION:Blacksmith Shop\, 324 E. Main St\, Manchester\, MI\, 48158\, United States
END:VEVENT
BEGIN:VEVENT
DTSTART;TZID=America/Detroit:20280409T130000
DTEND;TZID=America/Detroit:20280409T160000
DTSTAMP:20260421T191840
CREATED:20230309T172456Z
LAST-MODIFIED:20230309T172456Z
UID:3968-1838898000-1838908800@mahsmi.org
SUMMARY:Blacksmith Shop Open
DESCRIPTION:
URL:https://mahsmi.org/event/blacksmith-shop-open-2/2028-04-09/
LOCATION:Blacksmith Shop\, 324 E. Main St\, Manchester\, MI\, 48158\, United States
END:VEVENT
BEGIN:VEVENT
DTSTART;TZID=America/Detroit:20280416T130000
DTEND;TZID=America/Detroit:20280416T160000
DTSTAMP:20260421T191840
CREATED:20230309T172456Z
LAST-MODIFIED:20230309T172456Z
UID:3970-1839502800-1839513600@mahsmi.org
SUMMARY:Blacksmith Shop Open
DESCRIPTION:
URL:https://mahsmi.org/event/blacksmith-shop-open-2/2028-04-16/
LOCATION:Blacksmith Shop\, 324 E. Main St\, Manchester\, MI\, 48158\, United States
END:VEVENT
END:VCALENDAR