BEGIN:VCALENDAR
VERSION:2.0
PRODID:-//Manchester Area Historical Society - ECPv6.15.20//NONSGML v1.0//EN
CALSCALE:GREGORIAN
METHOD:PUBLISH
X-WR-CALNAME:Manchester Area Historical Society
X-ORIGINAL-URL:https://mahsmi.org
X-WR-CALDESC:Events for Manchester Area Historical Society
REFRESH-INTERVAL;VALUE=DURATION:PT1H
X-Robots-Tag:noindex
X-PUBLISHED-TTL:PT1H
BEGIN:VTIMEZONE
TZID:America/Detroit
BEGIN:DAYLIGHT
TZOFFSETFROM:-0500
TZOFFSETTO:-0400
TZNAME:EDT
DTSTART:20220313T070000
END:DAYLIGHT
BEGIN:STANDARD
TZOFFSETFROM:-0400
TZOFFSETTO:-0500
TZNAME:EST
DTSTART:20221106T060000
END:STANDARD
BEGIN:DAYLIGHT
TZOFFSETFROM:-0500
TZOFFSETTO:-0400
TZNAME:EDT
DTSTART:20230312T070000
END:DAYLIGHT
BEGIN:STANDARD
TZOFFSETFROM:-0400
TZOFFSETTO:-0500
TZNAME:EST
DTSTART:20231105T060000
END:STANDARD
BEGIN:DAYLIGHT
TZOFFSETFROM:-0500
TZOFFSETTO:-0400
TZNAME:EDT
DTSTART:20240310T070000
END:DAYLIGHT
BEGIN:STANDARD
TZOFFSETFROM:-0400
TZOFFSETTO:-0500
TZNAME:EST
DTSTART:20241103T060000
END:STANDARD
END:VTIMEZONE
BEGIN:VEVENT
DTSTART;TZID=America/Detroit:20230913T183000
DTEND;TZID=America/Detroit:20230913T203000
DTSTAMP:20260419T173140
CREATED:20230905T165727Z
LAST-MODIFIED:20230926T213309Z
UID:2535-1694629800-1694637000@mahsmi.org
SUMMARY:Manchester Historic Craft Project
DESCRIPTION:We will be meeting in the textile shop (in back of Blacksmith Shop) for fun’d-raising craft activities and\, again\, we welcome anyone who would like to join in!  Every Wednesday will be focused on working with a specific craft technique to create historic craft items to sell during Christmas in the Village: using wool appliqué to make pin cushions/ornaments\, rug hooking for ornaments/coasters\, hand-sewn pockets\, and paper cutting for ornaments and greeting cards. \nMaterials will be provided. \nSeptember 13 — wool appliqué\nSeptember 20 — rug hooking\nSeptember 27 — hand-sewn pockets\nOctober 4 — paper cutting\nOctober 11 — hand-sewn sachets
URL:https://mahsmi.org/event/manchester-historic-craft-project/2023-09-13/
LOCATION:Blacksmith Shop\, 324 E. Main St\, Manchester\, MI\, 48158\, United States
END:VEVENT
BEGIN:VEVENT
DTSTART;TZID=America/Detroit:20230914T190000
DTEND;TZID=America/Detroit:20230914T210000
DTSTAMP:20260419T173140
CREATED:20230309T162522Z
LAST-MODIFIED:20230515T125437Z
UID:2160-1694718000-1694725200@mahsmi.org
SUMMARY:MAHS Monthly Meeting
DESCRIPTION:MAHS strives to make Manchester area history interesting\, useful and meaningful to the citizens of today. Please join us for our regular monthly meeting\, held September through June\, the second Thursday of the month\, 7:00pm\, at the Kingsley-Jenter House. \nOur meetings are informal and include presentations on a wide variety of interesting topics representing a mix of local\, state and national themes. Everyone is welcome\, and attending a meeting is an excellent way to get started on your own journey into history! \nPlease join us for our September meeting at the Blacksmith Shop where we will be conducting Crafting Demonstrations!
URL:https://mahsmi.org/event/mahs-monthly-meeting-4/
LOCATION:Blacksmith Shop\, 324 E. Main St\, Manchester\, MI\, 48158\, United States
END:VEVENT
END:VCALENDAR