BEGIN:VCALENDAR
VERSION:2.0
PRODID:-//Manchester Area Historical Society - ECPv6.15.20//NONSGML v1.0//EN
CALSCALE:GREGORIAN
METHOD:PUBLISH
X-ORIGINAL-URL:https://mahsmi.org
X-WR-CALDESC:Events for Manchester Area Historical Society
REFRESH-INTERVAL;VALUE=DURATION:PT1H
X-Robots-Tag:noindex
X-PUBLISHED-TTL:PT1H
BEGIN:VTIMEZONE
TZID:America/Detroit
BEGIN:DAYLIGHT
TZOFFSETFROM:-0500
TZOFFSETTO:-0400
TZNAME:EDT
DTSTART:20220313T070000
END:DAYLIGHT
BEGIN:STANDARD
TZOFFSETFROM:-0400
TZOFFSETTO:-0500
TZNAME:EST
DTSTART:20221106T060000
END:STANDARD
BEGIN:DAYLIGHT
TZOFFSETFROM:-0500
TZOFFSETTO:-0400
TZNAME:EDT
DTSTART:20230312T070000
END:DAYLIGHT
BEGIN:STANDARD
TZOFFSETFROM:-0400
TZOFFSETTO:-0500
TZNAME:EST
DTSTART:20231105T060000
END:STANDARD
BEGIN:DAYLIGHT
TZOFFSETFROM:-0500
TZOFFSETTO:-0400
TZNAME:EDT
DTSTART:20240310T070000
END:DAYLIGHT
BEGIN:STANDARD
TZOFFSETFROM:-0400
TZOFFSETTO:-0500
TZNAME:EST
DTSTART:20241103T060000
END:STANDARD
END:VTIMEZONE
BEGIN:VEVENT
DTSTART;TZID=America/Detroit:20230715T160000
DTEND;TZID=America/Detroit:20230715T200000
DTSTAMP:20260421T213908
CREATED:20230410T151114Z
LAST-MODIFIED:20230410T151114Z
UID:2299-1689436800-1689451200@mahsmi.org
SUMMARY:Blacksmith Shop Open
DESCRIPTION:Blacksmith Shop open during Manchester Chicken Broil!
URL:https://mahsmi.org/event/blacksmith-shop-open-4/
LOCATION:MI
END:VEVENT
BEGIN:VEVENT
DTSTART;TZID=America/Detroit:20230728T090000
DTEND;TZID=America/Detroit:20230728T170000
DTSTAMP:20260421T213908
CREATED:20230707T143109Z
LAST-MODIFIED:20230711T211710Z
UID:2526-1690534800-1690563600@mahsmi.org
SUMMARY:Garage Sale
DESCRIPTION:
URL:https://mahsmi.org/event/garage-sale-2/
LOCATION:Kingsley-Jenter House\, 302 E. Main Street\, Manchester\, MI\, 48158\, United States
END:VEVENT
BEGIN:VEVENT
DTSTART;TZID=America/Detroit:20230729T090000
DTEND;TZID=America/Detroit:20230729T170000
DTSTAMP:20260421T213908
CREATED:20230707T143040Z
LAST-MODIFIED:20230707T143040Z
UID:2524-1690621200-1690650000@mahsmi.org
SUMMARY:Garage Sale
DESCRIPTION:
URL:https://mahsmi.org/event/garage-sale/
LOCATION:Kingsley-Jenter House\, 302 E. Main Street\, Manchester\, MI\, 48158\, United States
END:VEVENT
END:VCALENDAR