BEGIN:VCALENDAR
VERSION:2.0
PRODID:-//Manchester Area Historical Society - ECPv6.15.20//NONSGML v1.0//EN
CALSCALE:GREGORIAN
METHOD:PUBLISH
X-ORIGINAL-URL:https://mahsmi.org
X-WR-CALDESC:Events for Manchester Area Historical Society
REFRESH-INTERVAL;VALUE=DURATION:PT1H
X-Robots-Tag:noindex
X-PUBLISHED-TTL:PT1H
BEGIN:VTIMEZONE
TZID:America/Detroit
BEGIN:DAYLIGHT
TZOFFSETFROM:-0500
TZOFFSETTO:-0400
TZNAME:EDT
DTSTART:20220313T070000
END:DAYLIGHT
BEGIN:STANDARD
TZOFFSETFROM:-0400
TZOFFSETTO:-0500
TZNAME:EST
DTSTART:20221106T060000
END:STANDARD
BEGIN:DAYLIGHT
TZOFFSETFROM:-0500
TZOFFSETTO:-0400
TZNAME:EDT
DTSTART:20230312T070000
END:DAYLIGHT
BEGIN:STANDARD
TZOFFSETFROM:-0400
TZOFFSETTO:-0500
TZNAME:EST
DTSTART:20231105T060000
END:STANDARD
BEGIN:DAYLIGHT
TZOFFSETFROM:-0500
TZOFFSETTO:-0400
TZNAME:EDT
DTSTART:20240310T070000
END:DAYLIGHT
BEGIN:STANDARD
TZOFFSETFROM:-0400
TZOFFSETTO:-0500
TZNAME:EST
DTSTART:20241103T060000
END:STANDARD
END:VTIMEZONE
BEGIN:VEVENT
DTSTART;TZID=America/Detroit:20230608T180000
DTEND;TZID=America/Detroit:20230608T200000
DTSTAMP:20260421T213928
CREATED:20230309T162434Z
LAST-MODIFIED:20230523T142924Z
UID:2158-1686247200-1686254400@mahsmi.org
SUMMARY:MAHS Annual Picnic
DESCRIPTION:We are planning to once again hold our annual MAHS picnic on Thursday\, June 8\, at 6:00 PM\, at the home and historic barn setting of Norma Every\, 11533 Braun Road (SW corner of Lima Center Road)\, in Bridgewater Township. This wonderful barn setting has served as our gathering place for previous MAHS picnics\, and we are very pleased that Norma has agreed to once again host this event! She also wants everyone to see the additional restoration work she has been performing on her buildings!\n\nMAHS will supply plates\, utensils\, napkins\, cups\, etc.\, as well as a variety of drinks. We ask you to bring a dish of your choice to share.\n\nWe will also have our usual “white elephant” ticket event. Please consider bringing an item from around your home (old\, new\, antique\, unusual) that you wish to donate to this fun event. You will receive a ticket for the drawing to choose one of the items.\n\nWe’d appreciate your response if you are coming\, so we can plan accordingly. Please reply to rayberg@att.net
URL:https://mahsmi.org/event/mahs-monthly-meeting-3/
LOCATION:Norma Every Farm\, 11533 Braun Rd\, Manchester\, 48158
END:VEVENT
BEGIN:VEVENT
DTSTART;TZID=America/Detroit:20230608T183000
DTEND;TZID=America/Detroit:20230608T203000
DTSTAMP:20260421T213928
CREATED:20230529T134247Z
LAST-MODIFIED:20230711T210324Z
UID:2506-1686249000-1686256200@mahsmi.org
SUMMARY:Manchester Historic Craft Project at the Blacksmith Shop Museum
DESCRIPTION:The Manchester Historic Craft Project at the Blacksmith Shop Museum is hosting a recurring event to encourage volunteers to join us\, while at the same time teach historic craft\, and sell it to sustain the program.  The textile area of the Project will be offering a weekly gathering on Thursday evenings\, beginning June 8 from 6:30-8:30pm at the Blacksmith Shop Museum. The focus will be to craft items that can be sold in our gift shops. Instruction and materials will be provided. The items we make will use techniques and craft that are demonstrated on Sundays and special events\, such as: rug hooking\, wool appliqué\, paper cutting\, spinning\, weaving\, and other craft that we expand into our program. \nConsider joining us to learn\, teach\, volunteer and create a sustainable community program. \nWe are also requesting specific tools and materials for donation that can be dropped off on Sundays at the Blacksmith Shop Museum. Our current wish list includes a Treadle Sewing Machine in working order\, 100% woven wool fabric (bolt\, light weight blanket‐army/navy\, skirt\, trousers)\, and 100% linen fabric (bolt\, or clothing).
URL:https://mahsmi.org/event/manchester-historic-craft-project-at-the-blacksmith-shop-museum/
LOCATION:Blacksmith Shop\, 324 E. Main St\, Manchester\, MI\, 48158\, United States
END:VEVENT
END:VCALENDAR