BEGIN:VCALENDAR
VERSION:2.0
PRODID:-//Manchester Area Historical Society - ECPv6.15.20//NONSGML v1.0//EN
CALSCALE:GREGORIAN
METHOD:PUBLISH
X-WR-CALNAME:Manchester Area Historical Society
X-ORIGINAL-URL:https://mahsmi.org
X-WR-CALDESC:Events for Manchester Area Historical Society
REFRESH-INTERVAL;VALUE=DURATION:PT1H
X-Robots-Tag:noindex
X-PUBLISHED-TTL:PT1H
BEGIN:VTIMEZONE
TZID:America/Detroit
BEGIN:DAYLIGHT
TZOFFSETFROM:-0500
TZOFFSETTO:-0400
TZNAME:EDT
DTSTART:20220313T070000
END:DAYLIGHT
BEGIN:STANDARD
TZOFFSETFROM:-0400
TZOFFSETTO:-0500
TZNAME:EST
DTSTART:20221106T060000
END:STANDARD
BEGIN:DAYLIGHT
TZOFFSETFROM:-0500
TZOFFSETTO:-0400
TZNAME:EDT
DTSTART:20230312T070000
END:DAYLIGHT
BEGIN:STANDARD
TZOFFSETFROM:-0400
TZOFFSETTO:-0500
TZNAME:EST
DTSTART:20231105T060000
END:STANDARD
BEGIN:DAYLIGHT
TZOFFSETFROM:-0500
TZOFFSETTO:-0400
TZNAME:EDT
DTSTART:20240310T070000
END:DAYLIGHT
BEGIN:STANDARD
TZOFFSETFROM:-0400
TZOFFSETTO:-0500
TZNAME:EST
DTSTART:20241103T060000
END:STANDARD
END:VTIMEZONE
BEGIN:VTIMEZONE
TZID:America/New_York
BEGIN:DAYLIGHT
TZOFFSETFROM:-0500
TZOFFSETTO:-0400
TZNAME:EDT
DTSTART:20220313T070000
END:DAYLIGHT
BEGIN:STANDARD
TZOFFSETFROM:-0400
TZOFFSETTO:-0500
TZNAME:EST
DTSTART:20221106T060000
END:STANDARD
BEGIN:DAYLIGHT
TZOFFSETFROM:-0500
TZOFFSETTO:-0400
TZNAME:EDT
DTSTART:20230312T070000
END:DAYLIGHT
BEGIN:STANDARD
TZOFFSETFROM:-0400
TZOFFSETTO:-0500
TZNAME:EST
DTSTART:20231105T060000
END:STANDARD
BEGIN:DAYLIGHT
TZOFFSETFROM:-0500
TZOFFSETTO:-0400
TZNAME:EDT
DTSTART:20240310T070000
END:DAYLIGHT
BEGIN:STANDARD
TZOFFSETFROM:-0400
TZOFFSETTO:-0500
TZNAME:EST
DTSTART:20241103T060000
END:STANDARD
END:VTIMEZONE
BEGIN:VEVENT
DTSTART;TZID=America/Detroit:20230511T190000
DTEND;TZID=America/Detroit:20230511T210000
DTSTAMP:20260420T185606
CREATED:20230309T162320Z
LAST-MODIFIED:20230506T150134Z
UID:2156-1683831600-1683838800@mahsmi.org
SUMMARY:MAHS Monthly Meeting
DESCRIPTION:MAHS strives to make Manchester area history interesting\, useful and meaningful to the citizens of today. Please join us for our regular monthly meeting\, held September through June\, the second Thursday of the month\, 7:00pm\, at the Kingsley-Jenter House. \nOur meetings are informal and include presentations on a wide variety of interesting topics representing a mix of local\, state and national themes. Everyone is welcome\, and attending a meeting is an excellent way to get started on your own journey into history! \nMAHS Agenda May 11 2023 (1) \nSearch for the Oldest Photographs of Manchester!!!   Refreshments provided.
URL:https://mahsmi.org/event/mahs-monthly-meeting-2/
LOCATION:Kingsley-Jenter House\, 302 E. Main Street\, Manchester\, MI\, 48158\, United States
END:VEVENT
BEGIN:VEVENT
DTSTART;TZID=America/Detroit:20230416T130000
DTEND;TZID=America/Detroit:20230416T160000
DTSTAMP:20260420T185606
CREATED:20230411T131402Z
LAST-MODIFIED:20231029T183649Z
UID:2377-1681650000-1681660800@mahsmi.org
SUMMARY:KJ Museum and Gift Shop Open
DESCRIPTION:
URL:https://mahsmi.org/event/kj-museum-and-gift-shop-open/2023-04-16/
LOCATION:Kingsley-Jenter House\, 302 E. Main Street\, Manchester\, MI\, 48158\, United States
END:VEVENT
BEGIN:VEVENT
DTSTART;TZID=America/Detroit:20230413T190000
DTEND;TZID=America/Detroit:20230413T210000
DTSTAMP:20260420T185606
CREATED:20230309T161615Z
LAST-MODIFIED:20230410T152748Z
UID:2150-1681412400-1681419600@mahsmi.org
SUMMARY:MAHS Monthly Meeting
DESCRIPTION:Thursday\, April 13\, 2023 @ 7:00 PM – Guest speaker – Jason Eyster\, Chelsea Area Players\nWe’ll have a presentation by guest Jason Eyster on the upcoming play “The Only Man in Town”\, which will be performed in Chelsea in June. Learn about Frank Glazier\, a prominent Chelsea manufacturer and developer\, as Jason will present a slide show on this interesting part of Chelsea history along with musical performances from the play.  A short business meeting with MAHS updates and refreshments will also be a part of this evening. \nThe play is to be presented June 9-11\, 2023\, at the Chelsea High School auditorium. \nWe hope to see you there!\n\nMAHS Agenda April 13 2023\n  \nMAHS strives to make Manchester area history interesting\, useful and meaningful to the citizens of today. Please join us for our regular monthly meeting\, held September through June\, the second Thursday of the month\, 7:00pm\, at the Kingsley-Jenter House. \nOur meetings are informal and include presentations on a wide variety of interesting topics representing a mix of local\, state and national themes. Everyone is welcome\, and attending a meeting is an excellent way to get started on your own journey into history!
URL:https://mahsmi.org/event/upcoming-meeting/
LOCATION:Kingsley-Jenter House\, 302 E. Main Street\, Manchester\, MI\, 48158\, United States
END:VEVENT
BEGIN:VEVENT
DTSTART;TZID=America/Detroit:20230326T130000
DTEND;TZID=America/Detroit:20230326T160000
DTSTAMP:20260420T185606
CREATED:20230309T172456Z
LAST-MODIFIED:20231029T183738Z
UID:2182-1679835600-1679846400@mahsmi.org
SUMMARY:Blacksmith Shop Open
DESCRIPTION:
URL:https://mahsmi.org/event/blacksmith-shop-open-2/2023-03-26/
LOCATION:Blacksmith Shop\, 324 E. Main St\, Manchester\, MI\, 48158\, United States
END:VEVENT
BEGIN:VEVENT
DTSTART;TZID=America/Detroit:20230319T130000
DTEND;TZID=America/Detroit:20230319T160000
DTSTAMP:20260420T185606
CREATED:20230309T172127Z
LAST-MODIFIED:20230309T172406Z
UID:2178-1679230800-1679241600@mahsmi.org
SUMMARY:Blacksmith Shop Open
DESCRIPTION:
URL:https://mahsmi.org/event/blacksmith-shop-open/
LOCATION:Blacksmith Shop\, 324 E. Main St\, Manchester\, MI\, 48158\, United States
END:VEVENT
BEGIN:VEVENT
DTSTART;TZID=America/Detroit:20230312T130000
DTEND;TZID=America/Detroit:20230312T160000
DTSTAMP:20260420T185606
CREATED:20230309T171901Z
LAST-MODIFIED:20230309T172424Z
UID:2173-1678626000-1678636800@mahsmi.org
SUMMARY:Blacksmith Shop Open
DESCRIPTION:
URL:https://mahsmi.org/event/black-smith-shop-open/
LOCATION:Blacksmith Shop\, 324 E. Main St\, Manchester\, MI\, 48158\, United States
END:VEVENT
BEGIN:VEVENT
DTSTART;TZID=America/New_York:20230309T190000
DTEND;TZID=America/New_York:20230309T210000
DTSTAMP:20260420T185606
CREATED:20190329T143513Z
LAST-MODIFIED:20230309T162005Z
UID:102-1678388400-1678395600@mahsmi.org
SUMMARY:MAHS Monthly Meeting
DESCRIPTION:March 9\, 2023 Program: “Interesting Old Photos of Manchester and Stories behind its People”\, by Ray Berg. \n\nWe’re going to share several old photographs\, many of them recently acquired\, and interesting facts\nand stories behind them. \nMAHS strives to make Manchester area history interesting\, useful and meaningful to the citizens of today. Please join us for our regular monthly meeting\, held September through June\, the second Thursday of the month\, 7:00pm\, at the Kingsley-Jenter House. \nOur meetings are informal and include presentations on a wide variety of interesting topics representing a mix of local\, state and national themes. Everyone is welcome\, and attending a meeting is an excellent way to get started on your own journey into history!
URL:https://mahsmi.org/event/mahs-monthly-meeting/
LOCATION:Kingsley-Jenter House\, 302 E. Main Street\, Manchester\, MI\, 48158\, United States
END:VEVENT
END:VCALENDAR