BEGIN:VCALENDAR
VERSION:2.0
PRODID:-//Manchester Area Historical Society - ECPv6.15.20//NONSGML v1.0//EN
CALSCALE:GREGORIAN
METHOD:PUBLISH
X-ORIGINAL-URL:https://mahsmi.org
X-WR-CALDESC:Events for Manchester Area Historical Society
REFRESH-INTERVAL;VALUE=DURATION:PT1H
X-Robots-Tag:noindex
X-PUBLISHED-TTL:PT1H
BEGIN:VTIMEZONE
TZID:America/Detroit
BEGIN:DAYLIGHT
TZOFFSETFROM:-0500
TZOFFSETTO:-0400
TZNAME:EDT
DTSTART:20260308T070000
END:DAYLIGHT
BEGIN:STANDARD
TZOFFSETFROM:-0400
TZOFFSETTO:-0500
TZNAME:EST
DTSTART:20261101T060000
END:STANDARD
BEGIN:DAYLIGHT
TZOFFSETFROM:-0500
TZOFFSETTO:-0400
TZNAME:EDT
DTSTART:20270314T070000
END:DAYLIGHT
BEGIN:STANDARD
TZOFFSETFROM:-0400
TZOFFSETTO:-0500
TZNAME:EST
DTSTART:20271107T060000
END:STANDARD
BEGIN:DAYLIGHT
TZOFFSETFROM:-0500
TZOFFSETTO:-0400
TZNAME:EDT
DTSTART:20280312T070000
END:DAYLIGHT
BEGIN:STANDARD
TZOFFSETFROM:-0400
TZOFFSETTO:-0500
TZNAME:EST
DTSTART:20281105T060000
END:STANDARD
BEGIN:DAYLIGHT
TZOFFSETFROM:-0500
TZOFFSETTO:-0400
TZNAME:EDT
DTSTART:20290311T070000
END:DAYLIGHT
BEGIN:STANDARD
TZOFFSETFROM:-0400
TZOFFSETTO:-0500
TZNAME:EST
DTSTART:20291104T060000
END:STANDARD
END:VTIMEZONE
BEGIN:VEVENT
DTSTART;TZID=America/Detroit:20271107T130000
DTEND;TZID=America/Detroit:20271107T160000
DTSTAMP:20260425T105757
CREATED:20230309T172456Z
LAST-MODIFIED:20230309T172456Z
UID:3911-1825592400-1825603200@mahsmi.org
SUMMARY:Blacksmith Shop Open
DESCRIPTION:
URL:https://mahsmi.org/event/blacksmith-shop-open-2/2027-11-07/
LOCATION:Blacksmith Shop\, 324 E. Main St\, Manchester\, MI\, 48158\, United States
END:VEVENT
BEGIN:VEVENT
DTSTART;TZID=America/Detroit:20271107T130000
DTEND;TZID=America/Detroit:20271107T160000
DTSTAMP:20260425T105757
CREATED:20230411T131402Z
LAST-MODIFIED:20230411T131402Z
UID:3905-1825592400-1825603200@mahsmi.org
SUMMARY:KJ Museum and Gift Shop Open
DESCRIPTION:
URL:https://mahsmi.org/event/kj-museum-and-gift-shop-open/2027-11-07/
LOCATION:Kingsley-Jenter House\, 302 E. Main Street\, Manchester\, MI\, 48158\, United States
END:VEVENT
BEGIN:VEVENT
DTSTART;TZID=America/Detroit:20271114T130000
DTEND;TZID=America/Detroit:20271114T160000
DTSTAMP:20260425T105757
CREATED:20230309T172456Z
LAST-MODIFIED:20230309T172456Z
UID:3912-1826197200-1826208000@mahsmi.org
SUMMARY:Blacksmith Shop Open
DESCRIPTION:
URL:https://mahsmi.org/event/blacksmith-shop-open-2/2027-11-14/
LOCATION:Blacksmith Shop\, 324 E. Main St\, Manchester\, MI\, 48158\, United States
END:VEVENT
BEGIN:VEVENT
DTSTART;TZID=America/Detroit:20271114T130000
DTEND;TZID=America/Detroit:20271114T160000
DTSTAMP:20260425T105757
CREATED:20230411T131402Z
LAST-MODIFIED:20230411T131402Z
UID:3906-1826197200-1826208000@mahsmi.org
SUMMARY:KJ Museum and Gift Shop Open
DESCRIPTION:
URL:https://mahsmi.org/event/kj-museum-and-gift-shop-open/2027-11-14/
LOCATION:Kingsley-Jenter House\, 302 E. Main Street\, Manchester\, MI\, 48158\, United States
END:VEVENT
BEGIN:VEVENT
DTSTART;TZID=America/Detroit:20271121T130000
DTEND;TZID=America/Detroit:20271121T160000
DTSTAMP:20260425T105757
CREATED:20230309T172456Z
LAST-MODIFIED:20230309T172456Z
UID:3914-1826802000-1826812800@mahsmi.org
SUMMARY:Blacksmith Shop Open
DESCRIPTION:
URL:https://mahsmi.org/event/blacksmith-shop-open-2/2027-11-21/
LOCATION:Blacksmith Shop\, 324 E. Main St\, Manchester\, MI\, 48158\, United States
END:VEVENT
BEGIN:VEVENT
DTSTART;TZID=America/Detroit:20271121T130000
DTEND;TZID=America/Detroit:20271121T160000
DTSTAMP:20260425T105757
CREATED:20230411T131402Z
LAST-MODIFIED:20230411T131402Z
UID:3913-1826802000-1826812800@mahsmi.org
SUMMARY:KJ Museum and Gift Shop Open
DESCRIPTION:
URL:https://mahsmi.org/event/kj-museum-and-gift-shop-open/2027-11-21/
LOCATION:Kingsley-Jenter House\, 302 E. Main Street\, Manchester\, MI\, 48158\, United States
END:VEVENT
BEGIN:VEVENT
DTSTART;TZID=America/Detroit:20271128T130000
DTEND;TZID=America/Detroit:20271128T160000
DTSTAMP:20260425T105757
CREATED:20230309T172456Z
LAST-MODIFIED:20230309T172456Z
UID:3916-1827406800-1827417600@mahsmi.org
SUMMARY:Blacksmith Shop Open
DESCRIPTION:
URL:https://mahsmi.org/event/blacksmith-shop-open-2/2027-11-28/
LOCATION:Blacksmith Shop\, 324 E. Main St\, Manchester\, MI\, 48158\, United States
END:VEVENT
BEGIN:VEVENT
DTSTART;TZID=America/Detroit:20271128T130000
DTEND;TZID=America/Detroit:20271128T160000
DTSTAMP:20260425T105757
CREATED:20230411T131402Z
LAST-MODIFIED:20230411T131402Z
UID:3915-1827406800-1827417600@mahsmi.org
SUMMARY:KJ Museum and Gift Shop Open
DESCRIPTION:
URL:https://mahsmi.org/event/kj-museum-and-gift-shop-open/2027-11-28/
LOCATION:Kingsley-Jenter House\, 302 E. Main Street\, Manchester\, MI\, 48158\, United States
END:VEVENT
BEGIN:VEVENT
DTSTART;TZID=America/Detroit:20271205T130000
DTEND;TZID=America/Detroit:20271205T160000
DTSTAMP:20260425T105757
CREATED:20230309T172456Z
LAST-MODIFIED:20230309T172456Z
UID:3918-1828011600-1828022400@mahsmi.org
SUMMARY:Blacksmith Shop Open
DESCRIPTION:
URL:https://mahsmi.org/event/blacksmith-shop-open-2/2027-12-05/
LOCATION:Blacksmith Shop\, 324 E. Main St\, Manchester\, MI\, 48158\, United States
END:VEVENT
BEGIN:VEVENT
DTSTART;TZID=America/Detroit:20271205T130000
DTEND;TZID=America/Detroit:20271205T160000
DTSTAMP:20260425T105757
CREATED:20230411T131402Z
LAST-MODIFIED:20230411T131402Z
UID:3917-1828011600-1828022400@mahsmi.org
SUMMARY:KJ Museum and Gift Shop Open
DESCRIPTION:
URL:https://mahsmi.org/event/kj-museum-and-gift-shop-open/2027-12-05/
LOCATION:Kingsley-Jenter House\, 302 E. Main Street\, Manchester\, MI\, 48158\, United States
END:VEVENT
BEGIN:VEVENT
DTSTART;TZID=America/Detroit:20271212T130000
DTEND;TZID=America/Detroit:20271212T160000
DTSTAMP:20260425T105757
CREATED:20230309T172456Z
LAST-MODIFIED:20230309T172456Z
UID:3921-1828616400-1828627200@mahsmi.org
SUMMARY:Blacksmith Shop Open
DESCRIPTION:
URL:https://mahsmi.org/event/blacksmith-shop-open-2/2027-12-12/
LOCATION:Blacksmith Shop\, 324 E. Main St\, Manchester\, MI\, 48158\, United States
END:VEVENT
BEGIN:VEVENT
DTSTART;TZID=America/Detroit:20271212T130000
DTEND;TZID=America/Detroit:20271212T160000
DTSTAMP:20260425T105757
CREATED:20230411T131402Z
LAST-MODIFIED:20230411T131402Z
UID:3920-1828616400-1828627200@mahsmi.org
SUMMARY:KJ Museum and Gift Shop Open
DESCRIPTION:
URL:https://mahsmi.org/event/kj-museum-and-gift-shop-open/2027-12-12/
LOCATION:Kingsley-Jenter House\, 302 E. Main Street\, Manchester\, MI\, 48158\, United States
END:VEVENT
BEGIN:VEVENT
DTSTART;TZID=America/Detroit:20271219T130000
DTEND;TZID=America/Detroit:20271219T160000
DTSTAMP:20260425T105757
CREATED:20230309T172456Z
LAST-MODIFIED:20230309T172456Z
UID:3929-1829221200-1829232000@mahsmi.org
SUMMARY:Blacksmith Shop Open
DESCRIPTION:
URL:https://mahsmi.org/event/blacksmith-shop-open-2/2027-12-19/
LOCATION:Blacksmith Shop\, 324 E. Main St\, Manchester\, MI\, 48158\, United States
END:VEVENT
BEGIN:VEVENT
DTSTART;TZID=America/Detroit:20271219T130000
DTEND;TZID=America/Detroit:20271219T160000
DTSTAMP:20260425T105757
CREATED:20230411T131402Z
LAST-MODIFIED:20230411T131402Z
UID:3928-1829221200-1829232000@mahsmi.org
SUMMARY:KJ Museum and Gift Shop Open
DESCRIPTION:
URL:https://mahsmi.org/event/kj-museum-and-gift-shop-open/2027-12-19/
LOCATION:Kingsley-Jenter House\, 302 E. Main Street\, Manchester\, MI\, 48158\, United States
END:VEVENT
BEGIN:VEVENT
DTSTART;TZID=America/Detroit:20271226T130000
DTEND;TZID=America/Detroit:20271226T160000
DTSTAMP:20260425T105757
CREATED:20230309T172456Z
LAST-MODIFIED:20230309T172456Z
UID:3931-1829826000-1829836800@mahsmi.org
SUMMARY:Blacksmith Shop Open
DESCRIPTION:
URL:https://mahsmi.org/event/blacksmith-shop-open-2/2027-12-26/
LOCATION:Blacksmith Shop\, 324 E. Main St\, Manchester\, MI\, 48158\, United States
END:VEVENT
BEGIN:VEVENT
DTSTART;TZID=America/Detroit:20271226T130000
DTEND;TZID=America/Detroit:20271226T160000
DTSTAMP:20260425T105757
CREATED:20230411T131402Z
LAST-MODIFIED:20230411T131402Z
UID:3930-1829826000-1829836800@mahsmi.org
SUMMARY:KJ Museum and Gift Shop Open
DESCRIPTION:
URL:https://mahsmi.org/event/kj-museum-and-gift-shop-open/2027-12-26/
LOCATION:Kingsley-Jenter House\, 302 E. Main Street\, Manchester\, MI\, 48158\, United States
END:VEVENT
BEGIN:VEVENT
DTSTART;TZID=America/Detroit:20280102T130000
DTEND;TZID=America/Detroit:20280102T160000
DTSTAMP:20260425T105757
CREATED:20230309T172456Z
LAST-MODIFIED:20230309T172456Z
UID:3933-1830430800-1830441600@mahsmi.org
SUMMARY:Blacksmith Shop Open
DESCRIPTION:
URL:https://mahsmi.org/event/blacksmith-shop-open-2/2028-01-02/
LOCATION:Blacksmith Shop\, 324 E. Main St\, Manchester\, MI\, 48158\, United States
END:VEVENT
BEGIN:VEVENT
DTSTART;TZID=America/Detroit:20280102T130000
DTEND;TZID=America/Detroit:20280102T160000
DTSTAMP:20260425T105757
CREATED:20230411T131402Z
LAST-MODIFIED:20230411T131402Z
UID:3932-1830430800-1830441600@mahsmi.org
SUMMARY:KJ Museum and Gift Shop Open
DESCRIPTION:
URL:https://mahsmi.org/event/kj-museum-and-gift-shop-open/2028-01-02/
LOCATION:Kingsley-Jenter House\, 302 E. Main Street\, Manchester\, MI\, 48158\, United States
END:VEVENT
BEGIN:VEVENT
DTSTART;TZID=America/Detroit:20280109T130000
DTEND;TZID=America/Detroit:20280109T160000
DTSTAMP:20260425T105757
CREATED:20230309T172456Z
LAST-MODIFIED:20230309T172456Z
UID:3935-1831035600-1831046400@mahsmi.org
SUMMARY:Blacksmith Shop Open
DESCRIPTION:
URL:https://mahsmi.org/event/blacksmith-shop-open-2/2028-01-09/
LOCATION:Blacksmith Shop\, 324 E. Main St\, Manchester\, MI\, 48158\, United States
END:VEVENT
BEGIN:VEVENT
DTSTART;TZID=America/Detroit:20280109T130000
DTEND;TZID=America/Detroit:20280109T160000
DTSTAMP:20260425T105757
CREATED:20230411T131402Z
LAST-MODIFIED:20230411T131402Z
UID:3934-1831035600-1831046400@mahsmi.org
SUMMARY:KJ Museum and Gift Shop Open
DESCRIPTION:
URL:https://mahsmi.org/event/kj-museum-and-gift-shop-open/2028-01-09/
LOCATION:Kingsley-Jenter House\, 302 E. Main Street\, Manchester\, MI\, 48158\, United States
END:VEVENT
BEGIN:VEVENT
DTSTART;TZID=America/Detroit:20280116T130000
DTEND;TZID=America/Detroit:20280116T160000
DTSTAMP:20260425T105757
CREATED:20230309T172456Z
LAST-MODIFIED:20230309T172456Z
UID:3942-1831640400-1831651200@mahsmi.org
SUMMARY:Blacksmith Shop Open
DESCRIPTION:
URL:https://mahsmi.org/event/blacksmith-shop-open-2/2028-01-16/
LOCATION:Blacksmith Shop\, 324 E. Main St\, Manchester\, MI\, 48158\, United States
END:VEVENT
BEGIN:VEVENT
DTSTART;TZID=America/Detroit:20280116T130000
DTEND;TZID=America/Detroit:20280116T160000
DTSTAMP:20260425T105757
CREATED:20230411T131402Z
LAST-MODIFIED:20230411T131402Z
UID:3941-1831640400-1831651200@mahsmi.org
SUMMARY:KJ Museum and Gift Shop Open
DESCRIPTION:
URL:https://mahsmi.org/event/kj-museum-and-gift-shop-open/2028-01-16/
LOCATION:Kingsley-Jenter House\, 302 E. Main Street\, Manchester\, MI\, 48158\, United States
END:VEVENT
BEGIN:VEVENT
DTSTART;TZID=America/Detroit:20280123T130000
DTEND;TZID=America/Detroit:20280123T160000
DTSTAMP:20260425T105757
CREATED:20230309T172456Z
LAST-MODIFIED:20230309T172456Z
UID:3954-1832245200-1832256000@mahsmi.org
SUMMARY:Blacksmith Shop Open
DESCRIPTION:
URL:https://mahsmi.org/event/blacksmith-shop-open-2/2028-01-23/
LOCATION:Blacksmith Shop\, 324 E. Main St\, Manchester\, MI\, 48158\, United States
END:VEVENT
BEGIN:VEVENT
DTSTART;TZID=America/Detroit:20280123T130000
DTEND;TZID=America/Detroit:20280123T160000
DTSTAMP:20260425T105757
CREATED:20230411T131402Z
LAST-MODIFIED:20230411T131402Z
UID:3945-1832245200-1832256000@mahsmi.org
SUMMARY:KJ Museum and Gift Shop Open
DESCRIPTION:
URL:https://mahsmi.org/event/kj-museum-and-gift-shop-open/2028-01-23/
LOCATION:Kingsley-Jenter House\, 302 E. Main Street\, Manchester\, MI\, 48158\, United States
END:VEVENT
BEGIN:VEVENT
DTSTART;TZID=America/Detroit:20280130T130000
DTEND;TZID=America/Detroit:20280130T160000
DTSTAMP:20260425T105757
CREATED:20230309T172456Z
LAST-MODIFIED:20230309T172456Z
UID:3955-1832850000-1832860800@mahsmi.org
SUMMARY:Blacksmith Shop Open
DESCRIPTION:
URL:https://mahsmi.org/event/blacksmith-shop-open-2/2028-01-30/
LOCATION:Blacksmith Shop\, 324 E. Main St\, Manchester\, MI\, 48158\, United States
END:VEVENT
BEGIN:VEVENT
DTSTART;TZID=America/Detroit:20280130T130000
DTEND;TZID=America/Detroit:20280130T160000
DTSTAMP:20260425T105757
CREATED:20230411T131402Z
LAST-MODIFIED:20230411T131402Z
UID:3946-1832850000-1832860800@mahsmi.org
SUMMARY:KJ Museum and Gift Shop Open
DESCRIPTION:
URL:https://mahsmi.org/event/kj-museum-and-gift-shop-open/2028-01-30/
LOCATION:Kingsley-Jenter House\, 302 E. Main Street\, Manchester\, MI\, 48158\, United States
END:VEVENT
BEGIN:VEVENT
DTSTART;TZID=America/Detroit:20280206T130000
DTEND;TZID=America/Detroit:20280206T160000
DTSTAMP:20260425T105757
CREATED:20230309T172456Z
LAST-MODIFIED:20230309T172456Z
UID:3956-1833454800-1833465600@mahsmi.org
SUMMARY:Blacksmith Shop Open
DESCRIPTION:
URL:https://mahsmi.org/event/blacksmith-shop-open-2/2028-02-06/
LOCATION:Blacksmith Shop\, 324 E. Main St\, Manchester\, MI\, 48158\, United States
END:VEVENT
BEGIN:VEVENT
DTSTART;TZID=America/Detroit:20280206T130000
DTEND;TZID=America/Detroit:20280206T160000
DTSTAMP:20260425T105757
CREATED:20230411T131402Z
LAST-MODIFIED:20230411T131402Z
UID:3947-1833454800-1833465600@mahsmi.org
SUMMARY:KJ Museum and Gift Shop Open
DESCRIPTION:
URL:https://mahsmi.org/event/kj-museum-and-gift-shop-open/2028-02-06/
LOCATION:Kingsley-Jenter House\, 302 E. Main Street\, Manchester\, MI\, 48158\, United States
END:VEVENT
BEGIN:VEVENT
DTSTART;TZID=America/Detroit:20280213T130000
DTEND;TZID=America/Detroit:20280213T160000
DTSTAMP:20260425T105757
CREATED:20230309T172456Z
LAST-MODIFIED:20230309T172456Z
UID:3957-1834059600-1834070400@mahsmi.org
SUMMARY:Blacksmith Shop Open
DESCRIPTION:
URL:https://mahsmi.org/event/blacksmith-shop-open-2/2028-02-13/
LOCATION:Blacksmith Shop\, 324 E. Main St\, Manchester\, MI\, 48158\, United States
END:VEVENT
BEGIN:VEVENT
DTSTART;TZID=America/Detroit:20280213T130000
DTEND;TZID=America/Detroit:20280213T160000
DTSTAMP:20260425T105757
CREATED:20230411T131402Z
LAST-MODIFIED:20230411T131402Z
UID:3948-1834059600-1834070400@mahsmi.org
SUMMARY:KJ Museum and Gift Shop Open
DESCRIPTION:
URL:https://mahsmi.org/event/kj-museum-and-gift-shop-open/2028-02-13/
LOCATION:Kingsley-Jenter House\, 302 E. Main Street\, Manchester\, MI\, 48158\, United States
END:VEVENT
END:VCALENDAR