BEGIN:VCALENDAR
VERSION:2.0
PRODID:-//Manchester Area Historical Society - ECPv6.15.20//NONSGML v1.0//EN
CALSCALE:GREGORIAN
METHOD:PUBLISH
X-ORIGINAL-URL:https://mahsmi.org
X-WR-CALDESC:Events for Manchester Area Historical Society
REFRESH-INTERVAL;VALUE=DURATION:PT1H
X-Robots-Tag:noindex
X-PUBLISHED-TTL:PT1H
BEGIN:VTIMEZONE
TZID:America/Detroit
BEGIN:DAYLIGHT
TZOFFSETFROM:-0500
TZOFFSETTO:-0400
TZNAME:EDT
DTSTART:20250309T070000
END:DAYLIGHT
BEGIN:STANDARD
TZOFFSETFROM:-0400
TZOFFSETTO:-0500
TZNAME:EST
DTSTART:20251102T060000
END:STANDARD
BEGIN:DAYLIGHT
TZOFFSETFROM:-0500
TZOFFSETTO:-0400
TZNAME:EDT
DTSTART:20260308T070000
END:DAYLIGHT
BEGIN:STANDARD
TZOFFSETFROM:-0400
TZOFFSETTO:-0500
TZNAME:EST
DTSTART:20261101T060000
END:STANDARD
BEGIN:DAYLIGHT
TZOFFSETFROM:-0500
TZOFFSETTO:-0400
TZNAME:EDT
DTSTART:20270314T070000
END:DAYLIGHT
BEGIN:STANDARD
TZOFFSETFROM:-0400
TZOFFSETTO:-0500
TZNAME:EST
DTSTART:20271107T060000
END:STANDARD
BEGIN:DAYLIGHT
TZOFFSETFROM:-0500
TZOFFSETTO:-0400
TZNAME:EDT
DTSTART:20280312T070000
END:DAYLIGHT
BEGIN:STANDARD
TZOFFSETFROM:-0400
TZOFFSETTO:-0500
TZNAME:EST
DTSTART:20281105T060000
END:STANDARD
END:VTIMEZONE
BEGIN:VEVENT
DTSTART;TZID=America/Detroit:20261227T130000
DTEND;TZID=America/Detroit:20261227T160000
DTSTAMP:20260419T205633
CREATED:20230309T172456Z
LAST-MODIFIED:20230309T172456Z
UID:3723-1798376400-1798387200@mahsmi.org
SUMMARY:Blacksmith Shop Open
DESCRIPTION:
URL:https://mahsmi.org/event/blacksmith-shop-open-2/2026-12-27/
LOCATION:Blacksmith Shop\, 324 E. Main St\, Manchester\, MI\, 48158\, United States
END:VEVENT
BEGIN:VEVENT
DTSTART;TZID=America/Detroit:20261227T130000
DTEND;TZID=America/Detroit:20261227T160000
DTSTAMP:20260419T205633
CREATED:20230411T131402Z
LAST-MODIFIED:20230411T131402Z
UID:3722-1798376400-1798387200@mahsmi.org
SUMMARY:KJ Museum and Gift Shop Open
DESCRIPTION:
URL:https://mahsmi.org/event/kj-museum-and-gift-shop-open/2026-12-27/
LOCATION:Kingsley-Jenter House\, 302 E. Main Street\, Manchester\, MI\, 48158\, United States
END:VEVENT
BEGIN:VEVENT
DTSTART;TZID=America/Detroit:20270103T130000
DTEND;TZID=America/Detroit:20270103T160000
DTSTAMP:20260419T205633
CREATED:20230309T172456Z
LAST-MODIFIED:20230309T172456Z
UID:3725-1798981200-1798992000@mahsmi.org
SUMMARY:Blacksmith Shop Open
DESCRIPTION:
URL:https://mahsmi.org/event/blacksmith-shop-open-2/2027-01-03/
LOCATION:Blacksmith Shop\, 324 E. Main St\, Manchester\, MI\, 48158\, United States
END:VEVENT
BEGIN:VEVENT
DTSTART;TZID=America/Detroit:20270103T130000
DTEND;TZID=America/Detroit:20270103T160000
DTSTAMP:20260419T205633
CREATED:20230411T131402Z
LAST-MODIFIED:20230411T131402Z
UID:3724-1798981200-1798992000@mahsmi.org
SUMMARY:KJ Museum and Gift Shop Open
DESCRIPTION:
URL:https://mahsmi.org/event/kj-museum-and-gift-shop-open/2027-01-03/
LOCATION:Kingsley-Jenter House\, 302 E. Main Street\, Manchester\, MI\, 48158\, United States
END:VEVENT
BEGIN:VEVENT
DTSTART;TZID=America/Detroit:20270110T130000
DTEND;TZID=America/Detroit:20270110T160000
DTSTAMP:20260419T205633
CREATED:20230309T172456Z
LAST-MODIFIED:20230309T172456Z
UID:3729-1799586000-1799596800@mahsmi.org
SUMMARY:Blacksmith Shop Open
DESCRIPTION:
URL:https://mahsmi.org/event/blacksmith-shop-open-2/2027-01-10/
LOCATION:Blacksmith Shop\, 324 E. Main St\, Manchester\, MI\, 48158\, United States
END:VEVENT
BEGIN:VEVENT
DTSTART;TZID=America/Detroit:20270110T130000
DTEND;TZID=America/Detroit:20270110T160000
DTSTAMP:20260419T205633
CREATED:20230411T131402Z
LAST-MODIFIED:20230411T131402Z
UID:3728-1799586000-1799596800@mahsmi.org
SUMMARY:KJ Museum and Gift Shop Open
DESCRIPTION:
URL:https://mahsmi.org/event/kj-museum-and-gift-shop-open/2027-01-10/
LOCATION:Kingsley-Jenter House\, 302 E. Main Street\, Manchester\, MI\, 48158\, United States
END:VEVENT
BEGIN:VEVENT
DTSTART;TZID=America/Detroit:20270117T130000
DTEND;TZID=America/Detroit:20270117T160000
DTSTAMP:20260419T205633
CREATED:20230309T172456Z
LAST-MODIFIED:20230309T172456Z
UID:3735-1800190800-1800201600@mahsmi.org
SUMMARY:Blacksmith Shop Open
DESCRIPTION:
URL:https://mahsmi.org/event/blacksmith-shop-open-2/2027-01-17/
LOCATION:Blacksmith Shop\, 324 E. Main St\, Manchester\, MI\, 48158\, United States
END:VEVENT
BEGIN:VEVENT
DTSTART;TZID=America/Detroit:20270117T130000
DTEND;TZID=America/Detroit:20270117T160000
DTSTAMP:20260419T205633
CREATED:20230411T131402Z
LAST-MODIFIED:20230411T131402Z
UID:3734-1800190800-1800201600@mahsmi.org
SUMMARY:KJ Museum and Gift Shop Open
DESCRIPTION:
URL:https://mahsmi.org/event/kj-museum-and-gift-shop-open/2027-01-17/
LOCATION:Kingsley-Jenter House\, 302 E. Main Street\, Manchester\, MI\, 48158\, United States
END:VEVENT
BEGIN:VEVENT
DTSTART;TZID=America/Detroit:20270124T130000
DTEND;TZID=America/Detroit:20270124T160000
DTSTAMP:20260419T205633
CREATED:20230309T172456Z
LAST-MODIFIED:20230309T172456Z
UID:3737-1800795600-1800806400@mahsmi.org
SUMMARY:Blacksmith Shop Open
DESCRIPTION:
URL:https://mahsmi.org/event/blacksmith-shop-open-2/2027-01-24/
LOCATION:Blacksmith Shop\, 324 E. Main St\, Manchester\, MI\, 48158\, United States
END:VEVENT
BEGIN:VEVENT
DTSTART;TZID=America/Detroit:20270124T130000
DTEND;TZID=America/Detroit:20270124T160000
DTSTAMP:20260419T205633
CREATED:20230411T131402Z
LAST-MODIFIED:20230411T131402Z
UID:3736-1800795600-1800806400@mahsmi.org
SUMMARY:KJ Museum and Gift Shop Open
DESCRIPTION:
URL:https://mahsmi.org/event/kj-museum-and-gift-shop-open/2027-01-24/
LOCATION:Kingsley-Jenter House\, 302 E. Main Street\, Manchester\, MI\, 48158\, United States
END:VEVENT
BEGIN:VEVENT
DTSTART;TZID=America/Detroit:20270131T130000
DTEND;TZID=America/Detroit:20270131T160000
DTSTAMP:20260419T205633
CREATED:20230309T172456Z
LAST-MODIFIED:20230309T172456Z
UID:3739-1801400400-1801411200@mahsmi.org
SUMMARY:Blacksmith Shop Open
DESCRIPTION:
URL:https://mahsmi.org/event/blacksmith-shop-open-2/2027-01-31/
LOCATION:Blacksmith Shop\, 324 E. Main St\, Manchester\, MI\, 48158\, United States
END:VEVENT
BEGIN:VEVENT
DTSTART;TZID=America/Detroit:20270131T130000
DTEND;TZID=America/Detroit:20270131T160000
DTSTAMP:20260419T205633
CREATED:20230411T131402Z
LAST-MODIFIED:20230411T131402Z
UID:3738-1801400400-1801411200@mahsmi.org
SUMMARY:KJ Museum and Gift Shop Open
DESCRIPTION:
URL:https://mahsmi.org/event/kj-museum-and-gift-shop-open/2027-01-31/
LOCATION:Kingsley-Jenter House\, 302 E. Main Street\, Manchester\, MI\, 48158\, United States
END:VEVENT
BEGIN:VEVENT
DTSTART;TZID=America/Detroit:20270207T130000
DTEND;TZID=America/Detroit:20270207T160000
DTSTAMP:20260419T205633
CREATED:20230309T172456Z
LAST-MODIFIED:20230309T172456Z
UID:3741-1802005200-1802016000@mahsmi.org
SUMMARY:Blacksmith Shop Open
DESCRIPTION:
URL:https://mahsmi.org/event/blacksmith-shop-open-2/2027-02-07/
LOCATION:Blacksmith Shop\, 324 E. Main St\, Manchester\, MI\, 48158\, United States
END:VEVENT
BEGIN:VEVENT
DTSTART;TZID=America/Detroit:20270207T130000
DTEND;TZID=America/Detroit:20270207T160000
DTSTAMP:20260419T205633
CREATED:20230411T131402Z
LAST-MODIFIED:20230411T131402Z
UID:3740-1802005200-1802016000@mahsmi.org
SUMMARY:KJ Museum and Gift Shop Open
DESCRIPTION:
URL:https://mahsmi.org/event/kj-museum-and-gift-shop-open/2027-02-07/
LOCATION:Kingsley-Jenter House\, 302 E. Main Street\, Manchester\, MI\, 48158\, United States
END:VEVENT
BEGIN:VEVENT
DTSTART;TZID=America/Detroit:20270214T130000
DTEND;TZID=America/Detroit:20270214T160000
DTSTAMP:20260419T205633
CREATED:20230309T172456Z
LAST-MODIFIED:20230309T172456Z
UID:3743-1802610000-1802620800@mahsmi.org
SUMMARY:Blacksmith Shop Open
DESCRIPTION:
URL:https://mahsmi.org/event/blacksmith-shop-open-2/2027-02-14/
LOCATION:Blacksmith Shop\, 324 E. Main St\, Manchester\, MI\, 48158\, United States
END:VEVENT
BEGIN:VEVENT
DTSTART;TZID=America/Detroit:20270214T130000
DTEND;TZID=America/Detroit:20270214T160000
DTSTAMP:20260419T205633
CREATED:20230411T131402Z
LAST-MODIFIED:20230411T131402Z
UID:3742-1802610000-1802620800@mahsmi.org
SUMMARY:KJ Museum and Gift Shop Open
DESCRIPTION:
URL:https://mahsmi.org/event/kj-museum-and-gift-shop-open/2027-02-14/
LOCATION:Kingsley-Jenter House\, 302 E. Main Street\, Manchester\, MI\, 48158\, United States
END:VEVENT
BEGIN:VEVENT
DTSTART;TZID=America/Detroit:20270221T130000
DTEND;TZID=America/Detroit:20270221T160000
DTSTAMP:20260419T205633
CREATED:20230309T172456Z
LAST-MODIFIED:20230309T172456Z
UID:3745-1803214800-1803225600@mahsmi.org
SUMMARY:Blacksmith Shop Open
DESCRIPTION:
URL:https://mahsmi.org/event/blacksmith-shop-open-2/2027-02-21/
LOCATION:Blacksmith Shop\, 324 E. Main St\, Manchester\, MI\, 48158\, United States
END:VEVENT
BEGIN:VEVENT
DTSTART;TZID=America/Detroit:20270221T130000
DTEND;TZID=America/Detroit:20270221T160000
DTSTAMP:20260419T205633
CREATED:20230411T131402Z
LAST-MODIFIED:20230411T131402Z
UID:3744-1803214800-1803225600@mahsmi.org
SUMMARY:KJ Museum and Gift Shop Open
DESCRIPTION:
URL:https://mahsmi.org/event/kj-museum-and-gift-shop-open/2027-02-21/
LOCATION:Kingsley-Jenter House\, 302 E. Main Street\, Manchester\, MI\, 48158\, United States
END:VEVENT
BEGIN:VEVENT
DTSTART;TZID=America/Detroit:20270228T130000
DTEND;TZID=America/Detroit:20270228T160000
DTSTAMP:20260419T205633
CREATED:20230309T172456Z
LAST-MODIFIED:20230309T172456Z
UID:3747-1803819600-1803830400@mahsmi.org
SUMMARY:Blacksmith Shop Open
DESCRIPTION:
URL:https://mahsmi.org/event/blacksmith-shop-open-2/2027-02-28/
LOCATION:Blacksmith Shop\, 324 E. Main St\, Manchester\, MI\, 48158\, United States
END:VEVENT
BEGIN:VEVENT
DTSTART;TZID=America/Detroit:20270228T130000
DTEND;TZID=America/Detroit:20270228T160000
DTSTAMP:20260419T205633
CREATED:20230411T131402Z
LAST-MODIFIED:20230411T131402Z
UID:3746-1803819600-1803830400@mahsmi.org
SUMMARY:KJ Museum and Gift Shop Open
DESCRIPTION:
URL:https://mahsmi.org/event/kj-museum-and-gift-shop-open/2027-02-28/
LOCATION:Kingsley-Jenter House\, 302 E. Main Street\, Manchester\, MI\, 48158\, United States
END:VEVENT
BEGIN:VEVENT
DTSTART;TZID=America/Detroit:20270307T130000
DTEND;TZID=America/Detroit:20270307T160000
DTSTAMP:20260419T205633
CREATED:20230309T172456Z
LAST-MODIFIED:20230309T172456Z
UID:3751-1804424400-1804435200@mahsmi.org
SUMMARY:Blacksmith Shop Open
DESCRIPTION:
URL:https://mahsmi.org/event/blacksmith-shop-open-2/2027-03-07/
LOCATION:Blacksmith Shop\, 324 E. Main St\, Manchester\, MI\, 48158\, United States
END:VEVENT
BEGIN:VEVENT
DTSTART;TZID=America/Detroit:20270307T130000
DTEND;TZID=America/Detroit:20270307T160000
DTSTAMP:20260419T205633
CREATED:20230411T131402Z
LAST-MODIFIED:20230411T131402Z
UID:3750-1804424400-1804435200@mahsmi.org
SUMMARY:KJ Museum and Gift Shop Open
DESCRIPTION:
URL:https://mahsmi.org/event/kj-museum-and-gift-shop-open/2027-03-07/
LOCATION:Kingsley-Jenter House\, 302 E. Main Street\, Manchester\, MI\, 48158\, United States
END:VEVENT
BEGIN:VEVENT
DTSTART;TZID=America/Detroit:20270314T130000
DTEND;TZID=America/Detroit:20270314T160000
DTSTAMP:20260419T205633
CREATED:20230309T172456Z
LAST-MODIFIED:20230309T172456Z
UID:3755-1805029200-1805040000@mahsmi.org
SUMMARY:Blacksmith Shop Open
DESCRIPTION:
URL:https://mahsmi.org/event/blacksmith-shop-open-2/2027-03-14/
LOCATION:Blacksmith Shop\, 324 E. Main St\, Manchester\, MI\, 48158\, United States
END:VEVENT
BEGIN:VEVENT
DTSTART;TZID=America/Detroit:20270314T130000
DTEND;TZID=America/Detroit:20270314T160000
DTSTAMP:20260419T205633
CREATED:20230411T131402Z
LAST-MODIFIED:20230411T131402Z
UID:3754-1805029200-1805040000@mahsmi.org
SUMMARY:KJ Museum and Gift Shop Open
DESCRIPTION:
URL:https://mahsmi.org/event/kj-museum-and-gift-shop-open/2027-03-14/
LOCATION:Kingsley-Jenter House\, 302 E. Main Street\, Manchester\, MI\, 48158\, United States
END:VEVENT
BEGIN:VEVENT
DTSTART;TZID=America/Detroit:20270321T130000
DTEND;TZID=America/Detroit:20270321T160000
DTSTAMP:20260419T205633
CREATED:20230309T172456Z
LAST-MODIFIED:20230309T172456Z
UID:3762-1805634000-1805644800@mahsmi.org
SUMMARY:Blacksmith Shop Open
DESCRIPTION:
URL:https://mahsmi.org/event/blacksmith-shop-open-2/2027-03-21/
LOCATION:Blacksmith Shop\, 324 E. Main St\, Manchester\, MI\, 48158\, United States
END:VEVENT
BEGIN:VEVENT
DTSTART;TZID=America/Detroit:20270321T130000
DTEND;TZID=America/Detroit:20270321T160000
DTSTAMP:20260419T205633
CREATED:20230411T131402Z
LAST-MODIFIED:20230411T131402Z
UID:3761-1805634000-1805644800@mahsmi.org
SUMMARY:KJ Museum and Gift Shop Open
DESCRIPTION:
URL:https://mahsmi.org/event/kj-museum-and-gift-shop-open/2027-03-21/
LOCATION:Kingsley-Jenter House\, 302 E. Main Street\, Manchester\, MI\, 48158\, United States
END:VEVENT
BEGIN:VEVENT
DTSTART;TZID=America/Detroit:20270328T130000
DTEND;TZID=America/Detroit:20270328T160000
DTSTAMP:20260419T205633
CREATED:20230309T172456Z
LAST-MODIFIED:20230309T172456Z
UID:3764-1806238800-1806249600@mahsmi.org
SUMMARY:Blacksmith Shop Open
DESCRIPTION:
URL:https://mahsmi.org/event/blacksmith-shop-open-2/2027-03-28/
LOCATION:Blacksmith Shop\, 324 E. Main St\, Manchester\, MI\, 48158\, United States
END:VEVENT
BEGIN:VEVENT
DTSTART;TZID=America/Detroit:20270328T130000
DTEND;TZID=America/Detroit:20270328T160000
DTSTAMP:20260419T205633
CREATED:20230411T131402Z
LAST-MODIFIED:20230411T131402Z
UID:3763-1806238800-1806249600@mahsmi.org
SUMMARY:KJ Museum and Gift Shop Open
DESCRIPTION:
URL:https://mahsmi.org/event/kj-museum-and-gift-shop-open/2027-03-28/
LOCATION:Kingsley-Jenter House\, 302 E. Main Street\, Manchester\, MI\, 48158\, United States
END:VEVENT
BEGIN:VEVENT
DTSTART;TZID=America/Detroit:20270404T130000
DTEND;TZID=America/Detroit:20270404T160000
DTSTAMP:20260419T205633
CREATED:20230309T172456Z
LAST-MODIFIED:20230309T172456Z
UID:3766-1806843600-1806854400@mahsmi.org
SUMMARY:Blacksmith Shop Open
DESCRIPTION:
URL:https://mahsmi.org/event/blacksmith-shop-open-2/2027-04-04/
LOCATION:Blacksmith Shop\, 324 E. Main St\, Manchester\, MI\, 48158\, United States
END:VEVENT
BEGIN:VEVENT
DTSTART;TZID=America/Detroit:20270404T130000
DTEND;TZID=America/Detroit:20270404T160000
DTSTAMP:20260419T205633
CREATED:20230411T131402Z
LAST-MODIFIED:20230411T131402Z
UID:3765-1806843600-1806854400@mahsmi.org
SUMMARY:KJ Museum and Gift Shop Open
DESCRIPTION:
URL:https://mahsmi.org/event/kj-museum-and-gift-shop-open/2027-04-04/
LOCATION:Kingsley-Jenter House\, 302 E. Main Street\, Manchester\, MI\, 48158\, United States
END:VEVENT
END:VCALENDAR