BEGIN:VCALENDAR
VERSION:2.0
PRODID:-//Manchester Area Historical Society - ECPv6.15.20//NONSGML v1.0//EN
CALSCALE:GREGORIAN
METHOD:PUBLISH
X-WR-CALNAME:Manchester Area Historical Society
X-ORIGINAL-URL:https://mahsmi.org
X-WR-CALDESC:Events for Manchester Area Historical Society
REFRESH-INTERVAL;VALUE=DURATION:PT1H
X-Robots-Tag:noindex
X-PUBLISHED-TTL:PT1H
BEGIN:VTIMEZONE
TZID:America/Detroit
BEGIN:DAYLIGHT
TZOFFSETFROM:-0500
TZOFFSETTO:-0400
TZNAME:EDT
DTSTART:20230312T070000
END:DAYLIGHT
BEGIN:STANDARD
TZOFFSETFROM:-0400
TZOFFSETTO:-0500
TZNAME:EST
DTSTART:20231105T060000
END:STANDARD
BEGIN:DAYLIGHT
TZOFFSETFROM:-0500
TZOFFSETTO:-0400
TZNAME:EDT
DTSTART:20240310T070000
END:DAYLIGHT
BEGIN:STANDARD
TZOFFSETFROM:-0400
TZOFFSETTO:-0500
TZNAME:EST
DTSTART:20241103T060000
END:STANDARD
BEGIN:DAYLIGHT
TZOFFSETFROM:-0500
TZOFFSETTO:-0400
TZNAME:EDT
DTSTART:20250309T070000
END:DAYLIGHT
BEGIN:STANDARD
TZOFFSETFROM:-0400
TZOFFSETTO:-0500
TZNAME:EST
DTSTART:20251102T060000
END:STANDARD
END:VTIMEZONE
BEGIN:VEVENT
DTSTART;TZID=America/Detroit:20240921T100000
DTEND;TZID=America/Detroit:20240921T170000
DTSTAMP:20260420T021257
CREATED:20240916T213509Z
LAST-MODIFIED:20240920T222356Z
UID:3365-1726912800-1726938000@mahsmi.org
SUMMARY:Let's Gather Event
DESCRIPTION:Manchester Area Historical Society will be participating in the Let’s Gather Event at the Mottice Homestead in Manchester.  Come out and see are historic crafters and blacksmith at work along with their items for sale!  Maybe you will want to try your hand at it as well! \nLet’s Gather Event is a vendor market nestled in a unique setting with country charm. Homestead demonstrations\, live music\, food and activities for the kids. Whether browsing for handmade goods/gifts in tents\, in an historic building or under a shade tree\, this is sure to be a one-of-a-kind market adventure!
URL:https://mahsmi.org/event/lets-gather-event/
LOCATION:Mottice Homestead\, 20830 E. Pleasant Lake Rd\, Manchester\, MI\, 48158\, United States
END:VEVENT
END:VCALENDAR