BEGIN:VCALENDAR
VERSION:2.0
PRODID:-//Manchester Area Historical Society - ECPv6.15.20//NONSGML v1.0//EN
CALSCALE:GREGORIAN
METHOD:PUBLISH
X-WR-CALNAME:Manchester Area Historical Society
X-ORIGINAL-URL:https://mahsmi.org
X-WR-CALDESC:Events for Manchester Area Historical Society
REFRESH-INTERVAL;VALUE=DURATION:PT1H
X-Robots-Tag:noindex
X-PUBLISHED-TTL:PT1H
BEGIN:VTIMEZONE
TZID:America/Detroit
BEGIN:DAYLIGHT
TZOFFSETFROM:-0500
TZOFFSETTO:-0400
TZNAME:EDT
DTSTART:20220313T070000
END:DAYLIGHT
BEGIN:STANDARD
TZOFFSETFROM:-0400
TZOFFSETTO:-0500
TZNAME:EST
DTSTART:20221106T060000
END:STANDARD
BEGIN:DAYLIGHT
TZOFFSETFROM:-0500
TZOFFSETTO:-0400
TZNAME:EDT
DTSTART:20230312T070000
END:DAYLIGHT
BEGIN:STANDARD
TZOFFSETFROM:-0400
TZOFFSETTO:-0500
TZNAME:EST
DTSTART:20231105T060000
END:STANDARD
BEGIN:DAYLIGHT
TZOFFSETFROM:-0500
TZOFFSETTO:-0400
TZNAME:EDT
DTSTART:20240310T070000
END:DAYLIGHT
BEGIN:STANDARD
TZOFFSETFROM:-0400
TZOFFSETTO:-0500
TZNAME:EST
DTSTART:20241103T060000
END:STANDARD
END:VTIMEZONE
BEGIN:VEVENT
DTSTART;TZID=America/Detroit:20231117T193000
DTEND;TZID=America/Detroit:20231117T210000
DTSTAMP:20260419T131533
CREATED:20231029T155608Z
LAST-MODIFIED:20231109T130559Z
UID:2664-1700249400-1700254800@mahsmi.org
SUMMARY:Blacksmith Shop Concert Series - Rochelle Clark & The Familiars
DESCRIPTION:Blacksmith Shop Concert Series – Rochelle Clark & The Familiars \nJoin us for an incredible evening of live music with the talented Rochelle Clark & The Familiars at the Blacksmith Shop – Manchester Area Historical Society.  This concert series is known for its intimate atmosphere and unforgettable performances. Don’t miss out on this chance to experience the magic of live music surrounded by the rich history of the Blacksmith Shop. Get your tickets now and prepare to be blown away! \nA renowned Michigan singer-songwriter with a singular powerful and expressive voice\, Rochelle Clark has been captivating audiences throughout Michigan and the Midwest for years\, initially as part of the acclaimed Americana duo\, The Potter’s Field\, and more recently as a solo performer. Drawing on her roots in Folk\, Americana\, and Country – Rochelle has found a sound that is uniquely her own. \nIn addition to performing as a solo artist\, she can also be found performing regularly in a duo with her partner\, Jason Dennie\, or with her own band\, The Familiars. Rochelle released her first single\, Jericho\, in 2019 and her first solo studio recording in 2020\, an EP titled\, In Time. \nPurchase tickets here \nCheck out her website here!
URL:https://mahsmi.org/event/blacksmith-shop-concert-series-rochelle-clark/
LOCATION:Blacksmith Shop\, 324 E. Main St\, Manchester\, MI\, 48158\, United States
END:VEVENT
END:VCALENDAR